BEGIN:VCALENDAR
VERSION:2.0
PRODID:-//Hawks - ECPv6.15.20//NONSGML v1.0//EN
CALSCALE:GREGORIAN
METHOD:PUBLISH
X-ORIGINAL-URL:https://hamiltoncityhawks.co.nz
X-WR-CALDESC:Events for Hawks
REFRESH-INTERVAL;VALUE=DURATION:PT1H
X-Robots-Tag:noindex
X-PUBLISHED-TTL:PT1H
BEGIN:VTIMEZONE
TZID:Pacific/Auckland
BEGIN:STANDARD
TZOFFSETFROM:+1300
TZOFFSETTO:+1200
TZNAME:NZST
DTSTART:20250405T140000
END:STANDARD
BEGIN:DAYLIGHT
TZOFFSETFROM:+1200
TZOFFSETTO:+1300
TZNAME:NZDT
DTSTART:20250927T140000
END:DAYLIGHT
BEGIN:STANDARD
TZOFFSETFROM:+1300
TZOFFSETTO:+1200
TZNAME:NZST
DTSTART:20260404T140000
END:STANDARD
BEGIN:DAYLIGHT
TZOFFSETFROM:+1200
TZOFFSETTO:+1300
TZNAME:NZDT
DTSTART:20260926T140000
END:DAYLIGHT
BEGIN:STANDARD
TZOFFSETFROM:+1300
TZOFFSETTO:+1200
TZNAME:NZST
DTSTART:20270403T140000
END:STANDARD
BEGIN:DAYLIGHT
TZOFFSETFROM:+1200
TZOFFSETTO:+1300
TZNAME:NZDT
DTSTART:20270925T140000
END:DAYLIGHT
END:VTIMEZONE
BEGIN:VEVENT
DTSTART;VALUE=DATE:20260502
DTEND;VALUE=DATE:20260503
DTSTAMP:20260420T090211
CREATED:20260323T005327Z
LAST-MODIFIED:20260406T032941Z
UID:10970-1777680000-1777766399@hamiltoncityhawks.co.nz
SUMMARY:Rotorua Marathon
DESCRIPTION:The Rotorua Marathon is the venue for both the 2026 Athletics NZ Masters Marathon Champs and 2026 Athletics WaikatoBOP Marathon Champs. \nThe Rotorua Marathon has the following events: Full marathon | Half marathon | 10km | 5km\nANZ Master Marathon Champs info here: https://athletics.org.nz/event/2026-nz-masters-marathon-championships \nAthletics WaikatoBOP Marathon Champs info here: https://athleticswaikatobayofplenty.org.nz/competition/events \nRotorua Marathon Official Website: www.rotoruamarathon.co.nz \nHawks Past Results click here
URL:https://hamiltoncityhawks.co.nz/events/rotorua-marathon-2026/
LOCATION:Novotel Rotorua Lakeside and Village Green\, Rotorua\, 1115/1093 Tutanekai Street\, Rotorua\, 3010\, New Zealand
CATEGORIES:Athletics NZ Event,Non Club Event,WaiBOP Event
ATTACH;FMTTYPE=image/jpeg:https://hamiltoncityhawks.co.nz/wp-content/uploads/Rotorua-Marathon-Logo_2025_16x9.jpg
END:VEVENT
BEGIN:VEVENT
DTSTART;VALUE=DATE:20260516
DTEND;VALUE=DATE:20260517
DTSTAMP:20260420T090211
CREATED:20260323T010934Z
LAST-MODIFIED:20260323T010934Z
UID:10974-1778889600-1778975999@hamiltoncityhawks.co.nz
SUMMARY:Hawkes Bay Marathon
DESCRIPTION:The event courses are flat\, easy running. They each offer a unique mix of running terrain\, with a combination of running on-road and hard-packed limestone through orchards and past vineyards. \n42km Marathon | 21km Half Marathon | 10km | Kids Run
URL:https://hamiltoncityhawks.co.nz/events/hawkes-bay-marathon-2026/
LOCATION:Anderson Park\, Napier\, Greenmeadows\, Napier\, 4112\, New Zealand
CATEGORIES:Non Club Event
ATTACH;FMTTYPE=image/jpeg:https://hamiltoncityhawks.co.nz/wp-content/uploads/Hawkes-Bay-Marathon_16x9.jpg
END:VEVENT
BEGIN:VEVENT
DTSTART;TZID=Pacific/Auckland:20260517T080000
DTEND;TZID=Pacific/Auckland:20260517T140000
DTSTAMP:20260420T090211
CREATED:20260323T011515Z
LAST-MODIFIED:20260406T093853Z
UID:10978-1779004800-1779026400@hamiltoncityhawks.co.nz
SUMMARY:Huntly Half Marathon
DESCRIPTION:BAYLEYS Huntly Half Marathon Course is a exciting course that takes in the sights of East Huntly starting and finishing at the Huntly Speedway and then around East Mine and Lake Hakanoa and the streets of Huntly before returning to the East Mine and speedway. This course will be slightly different each year as the water levels rises in the East mine requiring the turnaround point to change\, (don’t worry they will make up the distance each year) making this course unique with a bit of everything \nBAYLEYS Huntly Half Marathon also offers prize money for the first 3 paces and a time bonus prize if winner beats the clock
URL:https://hamiltoncityhawks.co.nz/events/huntly-half-marathon-2026/
CATEGORIES:Non Club Event
ATTACH;FMTTYPE=image/jpeg:https://hamiltoncityhawks.co.nz/wp-content/uploads/2020/06/Huntly-Half-2015.jpg
END:VEVENT
BEGIN:VEVENT
DTSTART;TZID=Pacific/Auckland:20260523T080000
DTEND;TZID=Pacific/Auckland:20260523T170000
DTSTAMP:20260420T090211
CREATED:20260323T012811Z
LAST-MODIFIED:20260406T094416Z
UID:10984-1779523200-1779555600@hamiltoncityhawks.co.nz
SUMMARY:The Taniwha
DESCRIPTION:Wind your way through native bush\, exotic forest\, historic landmarks\, open reserves\, geological formations\, boardwalks over wetlands\, and stunning single track – taking in expansive lake and river views throughout. If too much amazing scenery were possible this would be it! \nRun/Walk Options 42.2KM (run) | 22KM | 16KM | 7KM \nMountain Bike/eBike options 43KM | 16KM \nDuathlon option 33km MTB & 11km Run/Walk \nOfficial website: www.thetaniwha.co.nz
URL:https://hamiltoncityhawks.co.nz/events/the-taniwha-2026/
CATEGORIES:Non Club Event
ATTACH;FMTTYPE=image/png:https://hamiltoncityhawks.co.nz/wp-content/uploads/2018/04/Taniwha_Logo_2017_no_Loaded_White_web.png
END:VEVENT
BEGIN:VEVENT
DTSTART;TZID=Pacific/Auckland:20260606T080000
DTEND;TZID=Pacific/Auckland:20260606T170000
DTSTAMP:20260420T090211
CREATED:20260323T014626Z
LAST-MODIFIED:20260330T005622Z
UID:10989-1780732800-1780765200@hamiltoncityhawks.co.nz
SUMMARY:Kirikiriroa Marathon
DESCRIPTION:The river experience marathon. \nYou will have 8 hours to complete event\, 8am to 4pm. \nIndividual or Hawks Teams \nKirikiriroamarathon.co.nz/race-info/
URL:https://hamiltoncityhawks.co.nz/events/kirikiriroa-marathon-2026/
LOCATION:Hungerford Cres\, Hamilton\, Hungerford Cres\, Hamilton\, 3200\, New Zealand
CATEGORIES:Non Club Event
ATTACH;FMTTYPE=image/png:https://hamiltoncityhawks.co.nz/wp-content/uploads/Kirikiriroa-Marathon.png
END:VEVENT
BEGIN:VEVENT
DTSTART;TZID=Pacific/Auckland:20260801T080000
DTEND;TZID=Pacific/Auckland:20260801T170000
DTSTAMP:20260420T090211
CREATED:20260330T011709Z
LAST-MODIFIED:20260330T011709Z
UID:11078-1785571200-1785603600@hamiltoncityhawks.co.nz
SUMMARY:Taupo Marathon
DESCRIPTION:Starting on Tongariro Street and finishing at the Tongariro Domain (Great Lake Centre)\, the marathon course first heads down Tongariro Street and Roberts Street before starting the first of two laps of the half marathon course. \nOfficial Website: www.taupomarathon.co.nz
URL:https://hamiltoncityhawks.co.nz/events/taupo-marathon-2026/
LOCATION:Great Lake Centre\, Taupo\, 5 Story Place\, Taupo\, 3330\, New Zealand
CATEGORIES:Non Club Event
ATTACH;FMTTYPE=image/png:https://hamiltoncityhawks.co.nz/wp-content/uploads/TaupoMarathonMovemberLogo.png
END:VEVENT
BEGIN:VEVENT
DTSTART;TZID=Pacific/Auckland:20260905T070000
DTEND;TZID=Pacific/Auckland:20260905T150000
DTSTAMP:20260420T090211
CREATED:20260330T024319Z
LAST-MODIFIED:20260330T024319Z
UID:11097-1788591600-1788620400@hamiltoncityhawks.co.nz
SUMMARY:Kinloch Offroad Challenge
DESCRIPTION:Enjoy stunning views as you run or walk over some spectacular trails in and around Kinloch\, Taupo.\nChoose from four distances over one very scenic course! \nThis event has a little something awesome for everyone\, whether you amble around the 5km course or take on the full marathon\, you’re guaranteed a great day out with great people. \nFull details on the official website: www.kinlochoffroadchallenge.co.nz
URL:https://hamiltoncityhawks.co.nz/events/kinloch-offroad-challenge-2026/
LOCATION:Kinloch Community Hall\, Mata Place\, Acacia Bay\, Kinloch\, Taupo\, New Zealand
CATEGORIES:Non Club Event
ATTACH;FMTTYPE=image/jpeg:https://hamiltoncityhawks.co.nz/wp-content/uploads/Kinloch_16x9.jpg
END:VEVENT
BEGIN:VEVENT
DTSTART;TZID=Pacific/Auckland:20260919T074500
DTEND;TZID=Pacific/Auckland:20260919T090000
DTSTAMP:20260420T090211
CREATED:20260330T025007Z
LAST-MODIFIED:20260330T025007Z
UID:11109-1789803900-1789808400@hamiltoncityhawks.co.nz
SUMMARY:Hamilton Parkrun Takeover
DESCRIPTION:Come on down to Hamilton Lake Park run – wear your club singlet and spread the news about the amazing club we are! \nHELP REQUIRED…As you may or may not be aware – we are planning a Hawks Parkrun Takeover on Saturday 19th September…And we are on the lookout for volunteers for the morning. \nThe takeover involves our club (Hawks) providing all Parkrun volunteers for the day at the Hamilton Lake Parkrun event. \nSo we need to “fill the roster”….. So\, if you are available to help us out on the morning\, course marshal\, finish tokens\, bar code scanners\, tail walker\, photographers etc. etc. please get in touch and put your name down….Ideally we are on the hunt for around 10 volunteers. \n\n#takeover #volunteersrule \nAnd we also obviously would like as many Hawks (preferably in club colours) taking part – it is a great opportunity to spread the word about our wonderful club to any run curious folk on the day…! \nOfficial website: www.parkrun.co.nz/hamiltonlake\n 
URL:https://hamiltoncityhawks.co.nz/events/hamilton-parkrun-2026/
LOCATION:Hamilton Lake\, Innes Common\, Lake Cres\, Hamilton Lake\, Hamilton\, 3204\, New Zealand
CATEGORIES:Non Club Event
ATTACH;FMTTYPE=image/jpeg:https://hamiltoncityhawks.co.nz/wp-content/uploads/2019/03/Hamilton-Parkrun_16X9.jpg
END:VEVENT
BEGIN:VEVENT
DTSTART;TZID=Pacific/Auckland:20261115T080000
DTEND;TZID=Pacific/Auckland:20261115T133000
DTSTAMP:20260420T090211
CREATED:20251117T073026Z
LAST-MODIFIED:20260320T043532Z
UID:10896-1794729600-1794749400@hamiltoncityhawks.co.nz
SUMMARY:Round the Bridges
DESCRIPTION:Taking in some of Hamilton’s best known landmarks\, the 12km and 6km courses include the scenic Waikato River paths and the iconic Hamilton bridges. Kids event 2km. \nRound the Bridges is one of the oldest annually contested events in New Zealand. The event began in 1945 (at the end of WWII) when the Hamilton Harrier Club established a road running race to enable Hamilton residents to witness top New Zealand athletes in action. \nCheck out official website at: www.roundthebridges.co.nz\nHawks runners join the Hamilton City Hawks group when you register for the event.
URL:https://hamiltoncityhawks.co.nz/events/round-the-bridges-2026/
LOCATION:Garden Place\, Victoria Street\, Hamilton\, 3204\, New Zealand
CATEGORIES:Non Club Event
ATTACH;FMTTYPE=image/jpeg:https://hamiltoncityhawks.co.nz/wp-content/uploads/Round-the-Bridges_16x9.jpg
END:VEVENT
BEGIN:VEVENT
DTSTART;VALUE=DATE:20261121
DTEND;VALUE=DATE:20261122
DTSTAMP:20260420T090211
CREATED:20260324T073352Z
LAST-MODIFIED:20260324T073352Z
UID:11047-1795219200-1795305599@hamiltoncityhawks.co.nz
SUMMARY:Trail Challenge Waihi
DESCRIPTION:Stunning trail running in Karangahake Gorge. \nEvent Options: \n\n\nTrail Tigers Kids Dash – 1km \n\n\nShort Course – 8.2km (walk or run) \n\n\nMid Course – 13.4km (walk or run) \n\n\nHalf Marathon – 21km (walk or run) \n\n\nMarathon – 42.2km (run only)
URL:https://hamiltoncityhawks.co.nz/events/trail-challenge-waihi/
LOCATION:Dickey Flat Adventure Camp\, Waihi\, Dickey Flat Road\, Waikino\, 3682\, New Zealand
CATEGORIES:Non Club Event
ATTACH;FMTTYPE=image/jpeg:https://hamiltoncityhawks.co.nz/wp-content/uploads/Trail-Challenge-Waihi_16x9.jpg
END:VEVENT
END:VCALENDAR