BEGIN:VCALENDAR
VERSION:2.0
PRODID:-//Hawks - ECPv6.15.20//NONSGML v1.0//EN
CALSCALE:GREGORIAN
METHOD:PUBLISH
X-WR-CALNAME:Hawks
X-ORIGINAL-URL:https://hamiltoncityhawks.co.nz
X-WR-CALDESC:Events for Hawks
REFRESH-INTERVAL;VALUE=DURATION:PT1H
X-Robots-Tag:noindex
X-PUBLISHED-TTL:PT1H
BEGIN:VTIMEZONE
TZID:Pacific/Auckland
BEGIN:STANDARD
TZOFFSETFROM:+1300
TZOFFSETTO:+1200
TZNAME:NZST
DTSTART:20130406T140000
END:STANDARD
BEGIN:DAYLIGHT
TZOFFSETFROM:+1200
TZOFFSETTO:+1300
TZNAME:NZDT
DTSTART:20130928T140000
END:DAYLIGHT
BEGIN:STANDARD
TZOFFSETFROM:+1300
TZOFFSETTO:+1200
TZNAME:NZST
DTSTART:20140405T140000
END:STANDARD
BEGIN:DAYLIGHT
TZOFFSETFROM:+1200
TZOFFSETTO:+1300
TZNAME:NZDT
DTSTART:20140927T140000
END:DAYLIGHT
BEGIN:STANDARD
TZOFFSETFROM:+1300
TZOFFSETTO:+1200
TZNAME:NZST
DTSTART:20150404T140000
END:STANDARD
BEGIN:DAYLIGHT
TZOFFSETFROM:+1200
TZOFFSETTO:+1300
TZNAME:NZDT
DTSTART:20150926T140000
END:DAYLIGHT
END:VTIMEZONE
BEGIN:VEVENT
DTSTART;TZID=Pacific/Auckland:20140412T093000
DTEND;TZID=Pacific/Auckland:20140412T113000
DTSTAMP:20260420T144130
CREATED:20140703T011910Z
LAST-MODIFIED:20140721T023942Z
UID:3107-1397295000-1397302200@hamiltoncityhawks.co.nz
SUMMARY:Te Awamutu Golf Course Run
DESCRIPTION:There is a 3.3km event for school aged children\, a 6km walk/run open to everyone\, and a 12km run solely for adults.  Golf course with undulating\, short grass\, also suitable for spikes.  Racing starts at 9:30am with the prize giving scheduled for 11:20am. Barbecue sausages\, hamburgers and refreshments will be available.Easter Pack Run from club rooms\,4/19/2014\,12:30:00 p.m.\,4/19/2014\,2:30:00 p.m.\,Base Manager: John Crane\,Hawks Club Rooms
URL:https://hamiltoncityhawks.co.nz/events/te-awamutu-golf-course-run/
CATEGORIES:Non Club Event
END:VEVENT
BEGIN:VEVENT
DTSTART;TZID=Pacific/Auckland:20140405T123000
DTEND;TZID=Pacific/Auckland:20140405T153000
DTSTAMP:20260420T144130
CREATED:20140703T011909Z
LAST-MODIFIED:20140721T023949Z
UID:3104-1396701000-1396711800@hamiltoncityhawks.co.nz
SUMMARY:Trophy Day
DESCRIPTION:Trophy Day based at club rooms from 1.30 p.m.  Handicap starts in our traditional season opener. Plenty of trophies up for grabs\, be certain to compete on the day.  This event is open to everyone.This is a handicap race from the club rooms. It is a staggered start based on your approximate or estimated 5km time.In theory\, everyone should finish together.In the past there have been some very exciting finishes with the bulk of the field often only within 30 or 40 seconds.Its a great chance for those who aren’t normally near the front to scoop one of the clubs most sought after trophies.
URL:https://hamiltoncityhawks.co.nz/events/trophy-day/
CATEGORIES:Club Event
END:VEVENT
BEGIN:VEVENT
DTSTART;TZID=Pacific/Auckland:20140329T123000
DTEND;TZID=Pacific/Auckland:20140329T153000
DTSTAMP:20260420T144130
CREATED:20140703T011909Z
LAST-MODIFIED:20140721T023954Z
UID:3103-1396096200-1396107000@hamiltoncityhawks.co.nz
SUMMARY:Hawks Open Day At Club Rooms
DESCRIPTION:Then 5 km river path walk/run/time trial and 2 km kids race for 14 and unders.  Followed by BBQ.
URL:https://hamiltoncityhawks.co.nz/events/hawks-open-day-at-club-rooms/
CATEGORIES:Club Event
END:VEVENT
BEGIN:VEVENT
DTSTART;TZID=Pacific/Auckland:20140315T103000
DTEND;TZID=Pacific/Auckland:20140315T120000
DTSTAMP:20260420T144130
CREATED:20140703T011909Z
LAST-MODIFIED:20140721T024001Z
UID:3101-1394879400-1394884800@hamiltoncityhawks.co.nz
SUMMARY:Tawawera Ultra
DESCRIPTION:The Vibram
URL:https://hamiltoncityhawks.co.nz/events/tawawera-ultra/
CATEGORIES:Non Club Event
END:VEVENT
BEGIN:VEVENT
DTSTART;TZID=Pacific/Auckland:20140309T103000
DTEND;TZID=Pacific/Auckland:20140309T113000
DTSTAMP:20260420T144130
CREATED:20140703T011909Z
LAST-MODIFIED:20140721T024011Z
UID:3100-1394361000-1394364600@hamiltoncityhawks.co.nz
SUMMARY:Copthorne Redwood off road Half\, Quaters and 5km
DESCRIPTION:Outstanding off road Half Marathon through the spectacular Whakarewarewa Forest. The event is a two lap course utilising scenic trails and smooth gravel forest roads.
URL:https://hamiltoncityhawks.co.nz/events/copthorne-redwood-off-road-half-quaters-and-5km/
CATEGORIES:Non Club Event
END:VEVENT
END:VCALENDAR