BEGIN:VCALENDAR
VERSION:2.0
PRODID:-//Hawks - ECPv6.15.20//NONSGML v1.0//EN
CALSCALE:GREGORIAN
METHOD:PUBLISH
X-WR-CALNAME:Hawks
X-ORIGINAL-URL:https://hamiltoncityhawks.co.nz
X-WR-CALDESC:Events for Hawks
REFRESH-INTERVAL;VALUE=DURATION:PT1H
X-Robots-Tag:noindex
X-PUBLISHED-TTL:PT1H
BEGIN:VTIMEZONE
TZID:Pacific/Auckland
BEGIN:STANDARD
TZOFFSETFROM:+1300
TZOFFSETTO:+1200
TZNAME:NZST
DTSTART:20200404T140000
END:STANDARD
BEGIN:DAYLIGHT
TZOFFSETFROM:+1200
TZOFFSETTO:+1300
TZNAME:NZDT
DTSTART:20200926T140000
END:DAYLIGHT
BEGIN:STANDARD
TZOFFSETFROM:+1300
TZOFFSETTO:+1200
TZNAME:NZST
DTSTART:20210403T140000
END:STANDARD
BEGIN:DAYLIGHT
TZOFFSETFROM:+1200
TZOFFSETTO:+1300
TZNAME:NZDT
DTSTART:20210925T140000
END:DAYLIGHT
BEGIN:STANDARD
TZOFFSETFROM:+1300
TZOFFSETTO:+1200
TZNAME:NZST
DTSTART:20220402T140000
END:STANDARD
BEGIN:DAYLIGHT
TZOFFSETFROM:+1200
TZOFFSETTO:+1300
TZNAME:NZDT
DTSTART:20220924T140000
END:DAYLIGHT
END:VTIMEZONE
BEGIN:VEVENT
DTSTART;VALUE=DATE:20211002
DTEND;VALUE=DATE:20211003
DTSTAMP:20260420T204349
CREATED:20210409T043039Z
LAST-MODIFIED:20210920T235410Z
UID:8861-1633132800-1633219199@hamiltoncityhawks.co.nz
SUMMARY:National Road Relays [cancelled]
DESCRIPTION:The National Road Relays is over the Takahe to Akaroa course in Christchurch this year. The race starts at the Sign of the Takahe and follows the traditional route through Governors Bay\, Gebbies Valley\, Little River and Duvauchelle to Akaroa. The Junior Relay\, Open Masters over 60 and Corporate/Social grade will start at Allandale (start of lap 2 Senior Race) and finish at\nCooptown (End of lap 5 Senior Race). \nMore details to be added here several months before the event.
URL:https://hamiltoncityhawks.co.nz/events/national-road-relays-2021/
LOCATION:Port Hills\, Christchurch\, Port Hills\, Christchurch\, New Zealand
CATEGORIES:Athletics NZ Event
ATTACH;FMTTYPE=image/jpeg:https://hamiltoncityhawks.co.nz/wp-content/uploads/2019/03/National-Road-Relays-16x9-1.jpg
END:VEVENT
BEGIN:VEVENT
DTSTART;TZID=Pacific/Auckland:20211017T100000
DTEND;TZID=Pacific/Auckland:20211017T130000
DTSTAMP:20260420T204349
CREATED:20210713T190020Z
LAST-MODIFIED:20210909T043507Z
UID:9109-1634464800-1634475600@hamiltoncityhawks.co.nz
SUMMARY:Red Stag Redwoods Relay [revised date]
DESCRIPTION:The rumours are true\, it’s back!  Much loved and eagerly anticipated in 2021. \nThe Redwoods Forest Relay (since 1979) will make a welcome return to the iconic Redwoods Grove\, Rotorua from 9.30am\, Sunday 17th October.  It is the only running and walking relay event in the Whakarewarewa Forest.  Say goodbye to winter and celebrate the arrival of spring with your friends\, family and work mates in a friendly\, fun atmosphere. \nRun or walk\, competitive or social – all are welcome\, with a live DJ playing all your favourite tunes.  New in 2021 – courses for the open and secondary schools event plus a new primary & intermediate schools relay.  And the launch of a Rotorua Lazy Sneakers collection site! \nRace pack pickup from 7.30am – 9.00 from iSite \nPrimary grade  (year 8 and under) first race of the day start time 9.30am \nAdult grade start time at the commencement of the children’s race approximately 10.00am \nMore details to come see https://lakecity.co.nz/forestrelay
URL:https://hamiltoncityhawks.co.nz/events/red-stag-redwoods-relay-2021/
LOCATION:The Redwoods Visitor Centre\, Long Mile Road\, Rotorua\, 3010\, New Zealand
CATEGORIES:Inter-Club Event
ATTACH;FMTTYPE=image/jpeg:https://hamiltoncityhawks.co.nz/wp-content/uploads/2015/09/Redwoods.jpg
END:VEVENT
BEGIN:VEVENT
DTSTART;TZID=Pacific/Auckland:20211030T070000
DTEND;TZID=Pacific/Auckland:20211030T170000
DTSTAMP:20260420T204349
CREATED:20210409T043046Z
LAST-MODIFIED:20210909T043500Z
UID:8855-1635577200-1635613200@hamiltoncityhawks.co.nz
SUMMARY:Kinloch Offroad Challenge [revised date]
DESCRIPTION:Enjoy stunning views as you run or walk over some spectacular trails in and around Kinloch\, Taupo.\nChoose from four distances over one very scenic course! \nThis event has a little something awesome for everyone\, whether you amble around the 5km course or take on the full marathon\, you’re guaranteed a great day out with great people. \nFull details on the official website: www.kinlochoffroadchallenge.co.nz
URL:https://hamiltoncityhawks.co.nz/events/kinloch-offroad-challenge-2021/
LOCATION:Kinloch Community Hall\, Mata Place\, Acacia Bay\, Kinloch\, Taupo\, New Zealand
CATEGORIES:Non Club Event
ATTACH;FMTTYPE=image/jpeg:https://hamiltoncityhawks.co.nz/wp-content/uploads/2021/04/Kinloch-Run-16x9-1.jpg
END:VEVENT
END:VCALENDAR