BEGIN:VCALENDAR
VERSION:2.0
PRODID:-//Hawks - ECPv6.15.20//NONSGML v1.0//EN
CALSCALE:GREGORIAN
METHOD:PUBLISH
X-ORIGINAL-URL:https://hamiltoncityhawks.co.nz
X-WR-CALDESC:Events for Hawks
REFRESH-INTERVAL;VALUE=DURATION:PT1H
X-Robots-Tag:noindex
X-PUBLISHED-TTL:PT1H
BEGIN:VTIMEZONE
TZID:Pacific/Auckland
BEGIN:STANDARD
TZOFFSETFROM:+1300
TZOFFSETTO:+1200
TZNAME:NZST
DTSTART:20210403T140000
END:STANDARD
BEGIN:DAYLIGHT
TZOFFSETFROM:+1200
TZOFFSETTO:+1300
TZNAME:NZDT
DTSTART:20210925T140000
END:DAYLIGHT
BEGIN:STANDARD
TZOFFSETFROM:+1300
TZOFFSETTO:+1200
TZNAME:NZST
DTSTART:20220402T140000
END:STANDARD
BEGIN:DAYLIGHT
TZOFFSETFROM:+1200
TZOFFSETTO:+1300
TZNAME:NZDT
DTSTART:20220924T140000
END:DAYLIGHT
BEGIN:STANDARD
TZOFFSETFROM:+1300
TZOFFSETTO:+1200
TZNAME:NZST
DTSTART:20230401T140000
END:STANDARD
BEGIN:DAYLIGHT
TZOFFSETFROM:+1200
TZOFFSETTO:+1300
TZNAME:NZDT
DTSTART:20230923T140000
END:DAYLIGHT
END:VTIMEZONE
BEGIN:VEVENT
DTSTART;TZID=Pacific/Auckland:20220402T123000
DTEND;TZID=Pacific/Auckland:20220402T150000
DTSTAMP:20260420T104332
CREATED:20220317T031327Z
LAST-MODIFIED:20220317T204355Z
UID:9272-1648902600-1648911600@hamiltoncityhawks.co.nz
SUMMARY:Hawks Open Day 2022
DESCRIPTION:Road and Cross country season open day. Come along and enjoy a pack run (5km to 10km) course and find out about the season.\n\n\nDoors open 12:30\n\nSocial pack run at 13:00\nFollowed by BBQ and ice creams…\n\nIt will take place from 1pm to 3:30 pm on Saturday 2nd April\, so mark it in your diary now and be sure to invite any run-curious friends along.\n\n\nWe will have a pack run starting from the clubrooms (Grantham St\, adjacent to the boat ramp) from 1pm (all speeds catered to\, there will be someone to run with you regardless of pace) followed by a BBQ and ice creams! \nThere will be uniforms etc available for viewing/purchase at the clubrooms on the day\, see Rob Townsend. \nSo if you are keen to come along to check us out\, this is a perfect day to do it\, there will be lots of members keen to chat and encourage you!
URL:https://hamiltoncityhawks.co.nz/events/hawks-open-day-2022/
LOCATION:Hawks Road and XC Clubrooms\, Hamilton City Hawks Grantham Street\, Hamilton\, 3204
CATEGORIES:Club Event
ATTACH;FMTTYPE=image/jpeg:https://hamiltoncityhawks.co.nz/wp-content/uploads/2021/04/OpenDay2014_16x9.jpg
END:VEVENT
BEGIN:VEVENT
DTSTART;TZID=Pacific/Auckland:20220409T123000
DTEND;TZID=Pacific/Auckland:20220409T153000
DTSTAMP:20260420T104332
CREATED:20220324T033044Z
LAST-MODIFIED:20220324T035855Z
UID:9275-1649507400-1649518200@hamiltoncityhawks.co.nz
SUMMARY:Reduction Relay
DESCRIPTION:It’s a cross country relay upon the grass alongside Cobham Drive\, before the Cobham Bridge.\nA 2km loop where runners are divided into mixed teams of 3 and all run together. One runner drops off each lap. \nDoors open at 12:30pm. Registrations from then.  Pick teams at 1 pm\, then jog to grass area near Traffic lights north of Cobham Bridge. \nPlease bring a plate for a shared afternoon tea for back at the Clubrooms. \nHawks past results
URL:https://hamiltoncityhawks.co.nz/events/reduction-relay-2022/
LOCATION:Hawks Road and XC Clubrooms\, Hamilton City Hawks Grantham Street\, Hamilton\, 3204
CATEGORIES:Club Event
ATTACH;FMTTYPE=image/jpeg:https://hamiltoncityhawks.co.nz/wp-content/uploads/2020/05/Reduction-Relay_16x9.jpg
END:VEVENT
BEGIN:VEVENT
DTSTART;TZID=Pacific/Auckland:20220423T090000
DTEND;TZID=Pacific/Auckland:20220423T113000
DTSTAMP:20260420T104332
CREATED:20220324T040054Z
LAST-MODIFIED:20220324T040551Z
UID:9276-1650704400-1650713400@hamiltoncityhawks.co.nz
SUMMARY:Te Awamutu Golf Course Run
DESCRIPTION:This is the 11th running of the Paperplus Te Awamutu Athletics Club Golf Course Fun Run held at the Te Awamutu Golf Club on Kihikihi Road. \nSaturday 23rd April. Race starts at 9.30am. This event is open to the Public and Registered Athletes \nPrizegiving – There will be no Prizegiving due to the uncertainty surrounding COVID settings but there will be some spot prizes. Whilst settings may change by then we will plan on the current rules. We have reduced the entry fee accordingly. \nAn event for all abilites with the unique ability to race on a Golf Course with a rolling aspect and good underfoot conditions\, suitable for spikes. Although adjacent to a main road the event offers a safe environment for families\, with kids able to finish their 3k run whilst their parents continue in their own event. \nThere is a 3k run for Students $7\, a 3k and 6k walk and 6k and 9k run\, all $10. Online entries close at 11am Friday 16th April. We much prefer ‘online’ entries however we will take late entries on the day but ask that you bring the correct cash. A ‘late’ fee of $5 will apply. \nUsually all athletes start at the same time and will complete one\, two or three 3k circuits. This year we may split start times depending on entry numbers\, with 5min gaps. Athletes will be issued with a race number and will recieve a finishing time and certificate. \nThe Golf Course will reopen to Members at 11am. Please ensure you or your supporters do not run or walk on any of the Greens. It is a privilege to have access to the Course – we don’t want to lose that. \nAll proceeds go into a Travel Fund to assist our Club’s athletes on representative duties. Thanks for your support. \nRace Organiser – Murray Green – 0276216608 \nRegister online here
URL:https://hamiltoncityhawks.co.nz/events/te-awamutu-golf-course-run-2022/
LOCATION:Te Awamutu Golf Club\, Kihikihi Rd\, Te Awamutu\, 3800\, New Zealand
CATEGORIES:Inter-Club Event
ATTACH;FMTTYPE=image/jpeg:https://hamiltoncityhawks.co.nz/wp-content/uploads/2021/04/Te-Awamutu-Golf-XC_16x9.jpg
END:VEVENT
BEGIN:VEVENT
DTSTART;TZID=Pacific/Auckland:20220430T124500
DTEND;TZID=Pacific/Auckland:20220430T153000
DTSTAMP:20260420T104332
CREATED:20220408T043050Z
LAST-MODIFIED:20220421T201946Z
UID:9310-1651322700-1651332600@hamiltoncityhawks.co.nz
SUMMARY:Gilchrist Rose Bowl
DESCRIPTION:This is a fun Cross Country event held on the grass area on the eastern side of Hamilton Lake \nMeet at clubrooms by 12:45 – or at the Lake 1pm – ready for a 1:30pm start. \nPlease bring a plate for a shared afternoon tea back at the clubrooms at the conclusion of the racing. \n\nKids will be running 2 x 1k laps\nAdults will run 2 x 1.92k laps anti-clockwise as per the map below
URL:https://hamiltoncityhawks.co.nz/events/gilchrist-rose-bowl-2022/
LOCATION:Hawks Road and XC Clubrooms\, Hamilton City Hawks Grantham Street\, Hamilton\, 3204
CATEGORIES:Club Event
ATTACH;FMTTYPE=image/jpeg:https://hamiltoncityhawks.co.nz/wp-content/uploads/2020/03/Gilchrist-Rosebowl_16x9.jpg
END:VEVENT
END:VCALENDAR