BEGIN:VCALENDAR
VERSION:2.0
PRODID:-//Hawks - ECPv6.15.20//NONSGML v1.0//EN
CALSCALE:GREGORIAN
METHOD:PUBLISH
X-WR-CALNAME:Hawks
X-ORIGINAL-URL:https://hamiltoncityhawks.co.nz
X-WR-CALDESC:Events for Hawks
REFRESH-INTERVAL;VALUE=DURATION:PT1H
X-Robots-Tag:noindex
X-PUBLISHED-TTL:PT1H
BEGIN:VTIMEZONE
TZID:Pacific/Auckland
BEGIN:STANDARD
TZOFFSETFROM:+1300
TZOFFSETTO:+1200
TZNAME:NZST
DTSTART:20210403T140000
END:STANDARD
BEGIN:DAYLIGHT
TZOFFSETFROM:+1200
TZOFFSETTO:+1300
TZNAME:NZDT
DTSTART:20210925T140000
END:DAYLIGHT
BEGIN:STANDARD
TZOFFSETFROM:+1300
TZOFFSETTO:+1200
TZNAME:NZST
DTSTART:20220402T140000
END:STANDARD
BEGIN:DAYLIGHT
TZOFFSETFROM:+1200
TZOFFSETTO:+1300
TZNAME:NZDT
DTSTART:20220924T140000
END:DAYLIGHT
BEGIN:STANDARD
TZOFFSETFROM:+1300
TZOFFSETTO:+1200
TZNAME:NZST
DTSTART:20230401T140000
END:STANDARD
BEGIN:DAYLIGHT
TZOFFSETFROM:+1200
TZOFFSETTO:+1300
TZNAME:NZDT
DTSTART:20230923T140000
END:DAYLIGHT
END:VTIMEZONE
BEGIN:VEVENT
DTSTART;TZID=Pacific/Auckland:20220507T080000
DTEND;TZID=Pacific/Auckland:20220507T170000
DTSTAMP:20260420T085812
CREATED:20220409T044554Z
LAST-MODIFIED:20220420T054546Z
UID:9302-1651910400-1651942800@hamiltoncityhawks.co.nz
SUMMARY:T42
DESCRIPTION:One of New Zealand’s most iconic events\, the award-winning One Above T42 takes you into the crisp alpine air and pristine environs of the Tongariro National Park. Perfect for a weekend away with family or friends\, the event offers run\, walk and mountain bike options for every age and ability. Find your perfect escape in this off-road adventure. \n\n48km Mountain Bike/ E-Bike\n42.2km Trail Marathon Run\n24km Trail Adventure Run / Walk\n11km Trail Run / Walk\n6.5km Trail Run / Walk\n\nThe 42 Traverse is a historic logging road – undulating (but overall\, more down than up) with a few (but not many) technical bits and a handful of short river crossings. In summary… it’s awesome! The event will finish (along with all of the other event options) in the Owhango township Domain where there will be all sorts of good stuff going on! \nNote: Total Sport offers a discount to Hawks members.  Please contact us for pin code.
URL:https://hamiltoncityhawks.co.nz/events/t42-2022/
LOCATION:Owhango Domain\, Owhango\, New Zealand
CATEGORIES:Non Club Event
ATTACH;FMTTYPE=image/jpeg:https://hamiltoncityhawks.co.nz/wp-content/uploads/2021/04/T42_2015_16x9.jpg
END:VEVENT
BEGIN:VEVENT
DTSTART;TZID=Pacific/Auckland:20220514T130000
DTEND;TZID=Pacific/Auckland:20220514T150000
DTSTAMP:20260420T085812
CREATED:20220420T043026Z
LAST-MODIFIED:20220429T054925Z
UID:9339-1652533200-1652540400@hamiltoncityhawks.co.nz
SUMMARY:Waiwhakareke Random Relay
DESCRIPTION:Join us at the Waiwhakareke Natural Heritage Reserve for a fun race – a relay format in teams of 3.\nTeams will be picked on the day. Meet at the barn in the northeastern corner. \nMeet at 13:00 for a 13:30 race start.\nParking on Baverstock Rd or at the Car Park opposite the zoo on Brymer Rd. If parked in Brymer Rd Car Park follow the northern trail to the barn. \nToilets are available at the venue. \nPlease bring something for afternoon tea afterward as well as a thermos if you would like a hot drink. \n \n \n 
URL:https://hamiltoncityhawks.co.nz/events/waiwhakareke-random-relay-2022/
LOCATION:Waiwhakareke Natural Heritage Park\, Baverstock\, Hamilton\, 3289\, New Zealand
CATEGORIES:Club Event
ATTACH;FMTTYPE=image/jpeg:https://hamiltoncityhawks.co.nz/wp-content/uploads/2020/05/Waiwhakareke-Relay_16x9.jpg
END:VEVENT
BEGIN:VEVENT
DTSTART;TZID=Pacific/Auckland:20220521T110000
DTEND;TZID=Pacific/Auckland:20220521T150000
DTSTAMP:20260420T085812
CREATED:20220409T043018Z
LAST-MODIFIED:20220410T070535Z
UID:9299-1653130800-1653145200@hamiltoncityhawks.co.nz
SUMMARY:Tauranga Open Cross Country
DESCRIPTION:Tauranga Ramblers club puts on this very well-organized event annually.  It’s on an excellent running surface and clubs gather from the Waikato Bay of Plenty to compete. \nCross Country Races for all ages and abilities in a park setting with testing terrain. For ages 5 to 100. On the well-established Waipuna Park Course\, Kaitemako Road\, Welcome Bay\, Tauranga. \nView here on the Waikato Bay of Plenty website nearer to the event for the online entry form and further detailed information. \nHawks Past Results
URL:https://hamiltoncityhawks.co.nz/events/tauranga-open-cross-country-2022/
LOCATION:Waipuna Park\, Kaitemako Road\, Welcome Bay\, Tauranga\, 3175
CATEGORIES:Inter-Club Event,WaiBOP Event
ATTACH;FMTTYPE=image/jpeg:https://hamiltoncityhawks.co.nz/wp-content/uploads/2019/04/TGA-Open-XC-2016_16x9.jpg
END:VEVENT
BEGIN:VEVENT
DTSTART;TZID=Pacific/Auckland:20220528T074500
DTEND;TZID=Pacific/Auckland:20220528T090000
DTSTAMP:20260420T085812
CREATED:20220420T043013Z
LAST-MODIFIED:20220420T060718Z
UID:9342-1653723900-1653728400@hamiltoncityhawks.co.nz
SUMMARY:Hamilton Parkrun
DESCRIPTION:There’s no Hawks event in Hamilton this weekend\, so get along to our local Park Run at Hamilton lake. \nOfficial website: www.parkrun.co.nz/hamiltonlake\nCosts nothing – it’s free! but please register before your first run. Only ever register with parkrun once. Don’t forget to bring a printed copy of your barcode (request a reminder). If you forget it\, you won’t get a time. \nHawks past results at Hamilton Parkrun \nOverall fastest 500 \nClick here for other Parkrun events held in New Zealand.
URL:https://hamiltoncityhawks.co.nz/events/hamilton-parkrun-2022/
LOCATION:Hamilton Lake\, Innes Common\, Lake Cres\, Hamilton Lake\, Hamilton\, 3204\, New Zealand
CATEGORIES:Non Club Event
ATTACH;FMTTYPE=image/jpeg:https://hamiltoncityhawks.co.nz/wp-content/uploads/2019/03/Hamilton-Parkrun_16X9.jpg
END:VEVENT
END:VCALENDAR