BEGIN:VCALENDAR
VERSION:2.0
PRODID:-//Hawks - ECPv6.15.20//NONSGML v1.0//EN
CALSCALE:GREGORIAN
METHOD:PUBLISH
X-ORIGINAL-URL:https://hamiltoncityhawks.co.nz
X-WR-CALDESC:Events for Hawks
REFRESH-INTERVAL;VALUE=DURATION:PT1H
X-Robots-Tag:noindex
X-PUBLISHED-TTL:PT1H
BEGIN:VTIMEZONE
TZID:Pacific/Auckland
BEGIN:STANDARD
TZOFFSETFROM:+1300
TZOFFSETTO:+1200
TZNAME:NZST
DTSTART:20210403T140000
END:STANDARD
BEGIN:DAYLIGHT
TZOFFSETFROM:+1200
TZOFFSETTO:+1300
TZNAME:NZDT
DTSTART:20210925T140000
END:DAYLIGHT
BEGIN:STANDARD
TZOFFSETFROM:+1300
TZOFFSETTO:+1200
TZNAME:NZST
DTSTART:20220402T140000
END:STANDARD
BEGIN:DAYLIGHT
TZOFFSETFROM:+1200
TZOFFSETTO:+1300
TZNAME:NZDT
DTSTART:20220924T140000
END:DAYLIGHT
BEGIN:STANDARD
TZOFFSETFROM:+1300
TZOFFSETTO:+1200
TZNAME:NZST
DTSTART:20230401T140000
END:STANDARD
BEGIN:DAYLIGHT
TZOFFSETFROM:+1200
TZOFFSETTO:+1300
TZNAME:NZDT
DTSTART:20230923T140000
END:DAYLIGHT
END:VTIMEZONE
BEGIN:VEVENT
DTSTART;TZID=Pacific/Auckland:20220612T130000
DTEND;TZID=Pacific/Auckland:20220612T143000
DTSTAMP:20260420T072649
CREATED:20220418T043031Z
LAST-MODIFIED:20220605T004712Z
UID:9346-1655038800-1655044200@hamiltoncityhawks.co.nz
SUMMARY:Charlton Farm Cross Country
DESCRIPTION:Hawks have been invited to attend Cambridge Harriers Club Cross Country event at Charlton’s Farm located 113 Discombe Rd\, Tamahere \n6km/3km – Handicap race\nHosted by Charlton Family\n\nStarting 1.30pm\, so please have them arrive by 1pm to organize a start time.
URL:https://hamiltoncityhawks.co.nz/events/charlton-farm-cross-country-2022/
LOCATION:Charlton’s Farm\, 113 Discombe Rd\, Tamahere\, Hamilton\, New Zealand
CATEGORIES:Inter-Club Event
ATTACH;FMTTYPE=image/jpeg:https://hamiltoncityhawks.co.nz/wp-content/uploads/2021/04/Cambridge-Charlton-Farm-XC_16x9.jpg
END:VEVENT
BEGIN:VEVENT
DTSTART;VALUE=DATE:20220618
DTEND;VALUE=DATE:20220619
DTSTAMP:20260420T072649
CREATED:20220409T043056Z
LAST-MODIFIED:20220422T053810Z
UID:9313-1655510400-1655596799@hamiltoncityhawks.co.nz
SUMMARY:Lake D Relay
DESCRIPTION:This is a fun 3 person mixed relay event – 3 x 3k laps around the picturesque Lake Kainui (Lake D) at Horsham Downs. It is a touch over 3ks per lap of packed gravel path with a bit of grass thrown in… \nMeet at Lake Kainui at 1pm to register and pick teams\, with the race to start at 1:30.\nBring a plate and a thermos for a cup of tea or coffee afterward. \nThere are toilets on-site\, and a carpark set down off the road. \nFor those interested there is a Strava Segment of the full lap here: Lake Kainui Lap \nAnd the google map here>>>
URL:https://hamiltoncityhawks.co.nz/events/lake-d-relay-2022/
LOCATION:Lake D\, Horsham Downs\, Lake D\, Horsham Downs\, Hamilton\, 3281\, New Zealand
CATEGORIES:Club Event
ATTACH;FMTTYPE=image/jpeg:https://hamiltoncityhawks.co.nz/wp-content/uploads/2021/04/Lake-D-Start-2020_lowres.jpg
END:VEVENT
BEGIN:VEVENT
DTSTART;TZID=Pacific/Auckland:20220625T130000
DTEND;TZID=Pacific/Auckland:20220625T153000
DTSTAMP:20260420T072649
CREATED:20220409T043032Z
LAST-MODIFIED:20220620T081150Z
UID:9316-1656162000-1656171000@hamiltoncityhawks.co.nz
SUMMARY:Club Cross Country Champs
DESCRIPTION:Held at Minogue Park\, meeting next to the miniature railway\, at the end of Tui Avenue.\n\nOnline registrations close at 8pm on Thursday 23 June. Registrations will be taken on the day.\nThe course covers a 3 km lap and/or a 2 km lap\, with a 1 km lap for the younger juniors.\nIt is a challenging course with some hills and it can be wet and muddy. Suits Spikes or Trail shoes (or bare feet for the brave).\nJunior runners can only run up one grade\, and we limit anyone to running one race on the day.\n\nPlease wear your Club Singlet as this is an open event to all Waikato Bay of Plenty Athletics Clubs.\nBring a plate and hot water flask along for afternoon tea at Minogue Park.\n\nhttps://hamiltoncityhawks.wufoo.com/forms/w1579clz007qf8i/\n\nRace Times:\nRegistration at 13:00 onwards\n13:30 – Under 10s and under 12s\n14:00 – everyone else\n\nDistances per age grade are:\nU10 boys and girls – 1km\nU12 boys and girls – 2 km\nU14 and U16 boys and girls – 3km\nU18 boys – 6km\nU18 girls – 5km\nU20 men – 6km\nU20 women – 5km\nSM 20-39 – 9km\nSW 20-34 – 6km\nMM 40-49\, 50-59 & 60+ – 6km\nMW 35-49\, 50-59 & 60+ – 5km\nThe age grades will be sorted by age on the day.\n \nEvent History\nWe have used the Minogue Park since the club’s inception in 1928 with a few years except in the late 70s & 80s.  There have been various course changes over the years. In the late 60s\, for example\, the Centennial Pools (now Waterworld) were built smack bang in the middle of our course. It was a good running course then (with a heap of high fences) as is our current course.  Yes\, it does get a bit wet during the rainy season\, but\, hey\, that’s cross country.  Merely running the course\, we are steeped in history. The current course was designed by Gordon Speirs in the mid-90s\, with only minor changes since.
URL:https://hamiltoncityhawks.co.nz/events/club-cross-country-champs-2022/
LOCATION:Minogue Park\, Minogue Park\, Forest Lake\, Hamilton\, 3200
CATEGORIES:Club Event,Inter-Club Event
ATTACH;FMTTYPE=image/jpeg:https://hamiltoncityhawks.co.nz/wp-content/uploads/2020/06/Club-XC-Champs_16x9.jpg
END:VEVENT
END:VCALENDAR