BEGIN:VCALENDAR
VERSION:2.0
PRODID:-//Hawks - ECPv6.15.20//NONSGML v1.0//EN
CALSCALE:GREGORIAN
METHOD:PUBLISH
X-WR-CALNAME:Hawks
X-ORIGINAL-URL:https://hamiltoncityhawks.co.nz
X-WR-CALDESC:Events for Hawks
REFRESH-INTERVAL;VALUE=DURATION:PT1H
X-Robots-Tag:noindex
X-PUBLISHED-TTL:PT1H
BEGIN:VTIMEZONE
TZID:Pacific/Auckland
BEGIN:STANDARD
TZOFFSETFROM:+1300
TZOFFSETTO:+1200
TZNAME:NZST
DTSTART:20210403T140000
END:STANDARD
BEGIN:DAYLIGHT
TZOFFSETFROM:+1200
TZOFFSETTO:+1300
TZNAME:NZDT
DTSTART:20210925T140000
END:DAYLIGHT
BEGIN:STANDARD
TZOFFSETFROM:+1300
TZOFFSETTO:+1200
TZNAME:NZST
DTSTART:20220402T140000
END:STANDARD
BEGIN:DAYLIGHT
TZOFFSETFROM:+1200
TZOFFSETTO:+1300
TZNAME:NZDT
DTSTART:20220924T140000
END:DAYLIGHT
BEGIN:STANDARD
TZOFFSETFROM:+1300
TZOFFSETTO:+1200
TZNAME:NZST
DTSTART:20230401T140000
END:STANDARD
BEGIN:DAYLIGHT
TZOFFSETFROM:+1200
TZOFFSETTO:+1300
TZNAME:NZDT
DTSTART:20230923T140000
END:DAYLIGHT
END:VTIMEZONE
BEGIN:VEVENT
DTSTART;VALUE=DATE:20221001
DTEND;VALUE=DATE:20221002
DTSTAMP:20260420T011916
CREATED:20220509T043039Z
LAST-MODIFIED:20220615T060714Z
UID:9437-1664582400-1664668799@hamiltoncityhawks.co.nz
SUMMARY:National Road Relays
DESCRIPTION:The National Road Relays is over the Takahe to Akaroa course in Christchurch this year. The race starts at the Sign of the Takahe and follows the traditional route through Governors Bay\, Gebbies Valley\, Little River and Duvauchelle to Akaroa. The Junior Relay\, Open Masters over 60 and Corporate/Social grade will start at Allandale (start of lap 2 Senior Race) and finish at\nCooptown (End of lap 5 Senior Race). \nSee the Hawks newsletter for more details leading up to the event and to register your interest in attending. \nWe are looking for teams in as many of the following grades as we can … \n•    Junior Women (6 runners)\n•    Junior Men (6 runners)\n•    Senior Women (8 runners)\n•    Senior Men (8 runners)\n•    Masters Men 35+ (8 runners)\n•    Masters Women 35+ (8 runners)\n•    Masters Men 50+ (8 runners)\n•    Masters Women 50+ (6 runners)\n•    Open 60+ (6 runners)\n•    Social Team(s) (6 or 8 runners) \n 
URL:https://hamiltoncityhawks.co.nz/events/national-road-relays-2022/
LOCATION:Port Hills\, Christchurch\, Port Hills\, Christchurch\, New Zealand
CATEGORIES:Athletics NZ Event
ATTACH;FMTTYPE=image/jpeg:https://hamiltoncityhawks.co.nz/wp-content/uploads/2019/03/National-Road-Relays-16x9-1.jpg
END:VEVENT
BEGIN:VEVENT
DTSTART;TZID=Pacific/Auckland:20221016T080000
DTEND;TZID=Pacific/Auckland:20221016T170000
DTSTAMP:20260420T011916
CREATED:20220508T040014Z
LAST-MODIFIED:20230308T214302Z
UID:9449-1665907200-1665939600@hamiltoncityhawks.co.nz
SUMMARY:Huntly Half Marathon
DESCRIPTION:The event involves the traditional Half Marathon distance of 21.1km which is officially measured and certified under ANZ standards. There is also a 10km\, 5km and RUN kids 2km for Under 16-year-olds. All events have the option of either a Run or Walk. \nThis has been a new course for the past few years and produces fast times. It features a virtually flat single out & back route that follows the mighty Waikato River on completely on sealed roads. This course will only be used for the Half Marathon participants and no other event distances. \nThe Huntly Half Marathon has had a long and enviable history since it started back in March 1981.
URL:https://hamiltoncityhawks.co.nz/events/huntly-half-marathon-2022/
LOCATION:Huntly Rugby Park\, Huntly Rugby Park\, Huntly\, Waikato\, 3700\, New Zealand
CATEGORIES:Non Club Event
ATTACH;FMTTYPE=image/jpeg:https://hamiltoncityhawks.co.nz/wp-content/uploads/2020/06/Huntly-Half-2015.jpg
END:VEVENT
BEGIN:VEVENT
DTSTART;TZID=Pacific/Auckland:20221016T090000
DTEND;TZID=Pacific/Auckland:20221016T130000
DTSTAMP:20260420T011916
CREATED:20220509T043019Z
LAST-MODIFIED:20220513T061532Z
UID:9452-1665910800-1665925200@hamiltoncityhawks.co.nz
SUMMARY:Cambridge Half Marathon (NZ & WaiBOP Half Champs)
DESCRIPTION:The Cambridge Half Marathon\, 10km and 5km is an annual running/walking event at Cambridge High School. \nThe Half Marathon course follows a low-traffic\, mainly flat\, extremely scenic course north and east of Cambridge\, along Flume\, Aspin and Maungakawa roads. The 10km course cuts through Tulip Drive and Watkins Road to join the half marathon course at around the 5km mark. The 5km event takes in the scenic walkway between Watkins Road and Thornton Road. \nOfficial event website and online entry: \nhttp://www.sporty.co.nz/cahcnz/Half-Marathon10k-5k/Race-Rules-Info \nRace day:\nSunday 16th October 2022 \nStart Times:\nHalf Marathon Walk – 9.00am\nHalf Marathon Run – 9.30am\n2k Kids Run – 9:50am \n10k Run – 10.20am\n10k Walk – 10:21am\n5K Run – 10.30am\n5K Walk – 10:31am
URL:https://hamiltoncityhawks.co.nz/events/cambridge-half-marathon-2022/
LOCATION:Cambridge High School\, Swayne Road\, Cambridge\, 3434\, New Zealand
CATEGORIES:Non Club Event
ATTACH;FMTTYPE=image/jpeg:https://hamiltoncityhawks.co.nz/wp-content/uploads/2019/03/Cambridge-Half-16x9-1.jpg
END:VEVENT
END:VCALENDAR