BEGIN:VCALENDAR
VERSION:2.0
PRODID:-//Hawks - ECPv6.15.20//NONSGML v1.0//EN
CALSCALE:GREGORIAN
METHOD:PUBLISH
X-ORIGINAL-URL:https://hamiltoncityhawks.co.nz
X-WR-CALDESC:Events for Hawks
REFRESH-INTERVAL;VALUE=DURATION:PT1H
X-Robots-Tag:noindex
X-PUBLISHED-TTL:PT1H
BEGIN:VTIMEZONE
TZID:Pacific/Auckland
BEGIN:STANDARD
TZOFFSETFROM:+1300
TZOFFSETTO:+1200
TZNAME:NZST
DTSTART:20220402T140000
END:STANDARD
BEGIN:DAYLIGHT
TZOFFSETFROM:+1200
TZOFFSETTO:+1300
TZNAME:NZDT
DTSTART:20220924T140000
END:DAYLIGHT
BEGIN:STANDARD
TZOFFSETFROM:+1300
TZOFFSETTO:+1200
TZNAME:NZST
DTSTART:20230401T140000
END:STANDARD
BEGIN:DAYLIGHT
TZOFFSETFROM:+1200
TZOFFSETTO:+1300
TZNAME:NZDT
DTSTART:20230923T140000
END:DAYLIGHT
BEGIN:STANDARD
TZOFFSETFROM:+1300
TZOFFSETTO:+1200
TZNAME:NZST
DTSTART:20240406T140000
END:STANDARD
BEGIN:DAYLIGHT
TZOFFSETFROM:+1200
TZOFFSETTO:+1300
TZNAME:NZDT
DTSTART:20240928T140000
END:DAYLIGHT
END:VTIMEZONE
BEGIN:VEVENT
DTSTART;TZID=Pacific/Auckland:20230812T123000
DTEND;TZID=Pacific/Auckland:20230812T153000
DTSTAMP:20260420T203045
CREATED:20230412T093535Z
LAST-MODIFIED:20230808T232001Z
UID:9806-1691843400-1691854200@hamiltoncityhawks.co.nz
SUMMARY:Sing Relay
DESCRIPTION:The Sing Relay is a unique two-person fun relay on a 5km course along The Cook course.\n\nThe faster runner runs towards Cobham bridge\, turning around just before the bridge to run back towards the start and meet their other runner\, whilst the slower runner runs up into Memorial gardens around the far tree\, turning to run back towards the start and their team mate.  At the point of meeting\, both runners turn around and run back to finish line the exact way they have just run. The team that takes top honours is the team that has both runners home first.\n\nThis is a relay for all abilities and is loads of fun. You will either run less or more than 5km depending on your ability and that of your team member. Teams will be picked on the day\n\nEither meet at the clubrooms with a warm up run to The Cook start or meet at The Cook start by 1.00pm.  Teams to be sorted at 1.00pm at the start.\nChildren’s 2km race at 1:15pm.\nRelay race starts at 1:30 pm\n\nWe will be heading to The Cook for a drink after the race so please join us.
URL:https://hamiltoncityhawks.co.nz/events/sing-relay-2023/
LOCATION:The Cook\, 7 Cook Street\, Hamilton East\, Hamilton\, 3216\, New Zealand
CATEGORIES:Club Event
ATTACH;FMTTYPE=image/jpeg:https://hamiltoncityhawks.co.nz/wp-content/uploads/2020/06/Sing-Relay-16x9-1.jpg
END:VEVENT
BEGIN:VEVENT
DTSTART;TZID=Pacific/Auckland:20230819T074500
DTEND;TZID=Pacific/Auckland:20230819T090000
DTSTAMP:20260420T203045
CREATED:20230414T082338Z
LAST-MODIFIED:20230723T051444Z
UID:9814-1692431100-1692435600@hamiltoncityhawks.co.nz
SUMMARY:Hamilton Parkrun Takeover
DESCRIPTION:Come on down to Hamilton Lake Park run – wear your club singlet and spread the news about the amazing club we are! \nHELP REQUIRED…As you may or may not be aware – we are planning a Hawks Parkrun Takeover on Saturday 19th August…And we are on the lookout for volunteers for the morning. \nThe takeover involves our club (Hawks) providing all Parkrun volunteers for the day at the Hamilton Lake Parkrun event. \nSo we need to “fill the roster”….. So\, if you are available to help us out on the morning\, course marshal\, finish tokens\, bar code scanners\, tail walker\, photographers etc. etc. please get in touch and put your name down….Ideally we are on the hunt for around 10 volunteers. \n\n#takeover #volunteersrule \nAnd we also obviously would like as many Hawks (preferably in club colours) taking part – it is a great opportunity to spread the word about our wonderful club to any run curious folk on the day…! \nOfficial website: www.parkrun.co.nz/hamiltonlake\n 
URL:https://hamiltoncityhawks.co.nz/events/hamilton-parkrun-2023/
LOCATION:Hamilton Lake\, Innes Common\, Lake Cres\, Hamilton Lake\, Hamilton\, 3204\, New Zealand
CATEGORIES:Non Club Event
ATTACH;FMTTYPE=image/jpeg:https://hamiltoncityhawks.co.nz/wp-content/uploads/2019/03/Hamilton-Parkrun_16X9.jpg
END:VEVENT
BEGIN:VEVENT
DTSTART;TZID=Pacific/Auckland:20230820T100000
DTEND;TZID=Pacific/Auckland:20230820T160000
DTSTAMP:20260420T203045
CREATED:20230414T083144Z
LAST-MODIFIED:20230723T051246Z
UID:9819-1692525600-1692547200@hamiltoncityhawks.co.nz
SUMMARY:Waikato Bay of Plenty Road Champs
DESCRIPTION:Location – St Peters School\, Cambridge \nRace information including course maps can be found on this link once available \nEntries can be made there when the entry portal is live. \nPlease note that you must be registered with a Waikato-Bay of Plenty club by Friday 18th August in order to be eligible for a Championship placing. You must also wear your club uniform. \nEntries will close on Tuesday 15th August – no late entries
URL:https://hamiltoncityhawks.co.nz/events/waikato-bay-of-plenty-road-champs-2023/
LOCATION:St Peters School\, Cambridge\, 1716 Cambridge Rd\, Cambridge\, 3283\, New Zealand
CATEGORIES:WaiBOP Event
ATTACH;FMTTYPE=image/jpeg:https://hamiltoncityhawks.co.nz/wp-content/uploads/2016/08/WaiBOP-Road-Champs-2016.jpg
END:VEVENT
BEGIN:VEVENT
DTSTART;TZID=Pacific/Auckland:20230826T123000
DTEND;TZID=Pacific/Auckland:20230826T153000
DTSTAMP:20260420T203045
CREATED:20230414T195414Z
LAST-MODIFIED:20230414T203717Z
UID:9828-1693053000-1693063800@hamiltoncityhawks.co.nz
SUMMARY:Pack Run at Clubrooms
DESCRIPTION:More details to follow
URL:https://hamiltoncityhawks.co.nz/events/pack-run-2023/
LOCATION:Hawks Road and XC Clubrooms\, Hamilton City Hawks Grantham Street\, Hamilton\, 3204
ATTACH;FMTTYPE=image/jpeg:https://hamiltoncityhawks.co.nz/wp-content/uploads/Hawks-RXC-Clubrooms_16x9.jpg
END:VEVENT
END:VCALENDAR