BEGIN:VCALENDAR
VERSION:2.0
PRODID:-//Hawks - ECPv6.15.20//NONSGML v1.0//EN
CALSCALE:GREGORIAN
METHOD:PUBLISH
X-ORIGINAL-URL:https://hamiltoncityhawks.co.nz
X-WR-CALDESC:Events for Hawks
REFRESH-INTERVAL;VALUE=DURATION:PT1H
X-Robots-Tag:noindex
X-PUBLISHED-TTL:PT1H
BEGIN:VTIMEZONE
TZID:Pacific/Auckland
BEGIN:STANDARD
TZOFFSETFROM:+1300
TZOFFSETTO:+1200
TZNAME:NZST
DTSTART:20210403T140000
END:STANDARD
BEGIN:DAYLIGHT
TZOFFSETFROM:+1200
TZOFFSETTO:+1300
TZNAME:NZDT
DTSTART:20210925T140000
END:DAYLIGHT
BEGIN:STANDARD
TZOFFSETFROM:+1300
TZOFFSETTO:+1200
TZNAME:NZST
DTSTART:20220402T140000
END:STANDARD
BEGIN:DAYLIGHT
TZOFFSETFROM:+1200
TZOFFSETTO:+1300
TZNAME:NZDT
DTSTART:20220924T140000
END:DAYLIGHT
BEGIN:STANDARD
TZOFFSETFROM:+1300
TZOFFSETTO:+1200
TZNAME:NZST
DTSTART:20230401T140000
END:STANDARD
BEGIN:DAYLIGHT
TZOFFSETFROM:+1200
TZOFFSETTO:+1300
TZNAME:NZDT
DTSTART:20230923T140000
END:DAYLIGHT
END:VTIMEZONE
BEGIN:VEVENT
DTSTART;TZID=Pacific/Auckland:20220702T080000
DTEND;TZID=Pacific/Auckland:20220702T170000
DTSTAMP:20260422T041111
CREATED:20220409T043048Z
LAST-MODIFIED:20220410T073016Z
UID:9319-1656748800-1656781200@hamiltoncityhawks.co.nz
SUMMARY:North Island Cross Country Champs
DESCRIPTION:This is a great annual event\, even for those who are not that comfortable running cross country\, as it covers rolling park-like grounds and is well drained underfoot. This event is open to all athletes. There is a huge turn out from clubs through out the North Island. \nThe course is firm\, fast and flowing\, and later you can enjoy the free thermal pools at the river’s edge behind the venue. \nApproved by Athletics Waikato Bay of Plenty\, Athletics New Zealand.\nSanctioned Event \nRun under Athletics NZ rules as open races and membership of a running club NOT essential\n(Any runner can enter and win place medals) \nEntries are easily done on-line view here \nOn-line entries close on 29 June\, but on the day entries are available at late fee x 2.\nThis event is also open to non-club members. \nCompetitors will be issued with tickets that can be exchanged for a hot drink and muffin at the venue. \nHawks Past Results
URL:https://hamiltoncityhawks.co.nz/events/north-island-cross-country-champs-2022/
LOCATION:Spa Thermal Park\, Spa Road\, Taupo\, New Zealand
CATEGORIES:Athletics NZ Event,Inter-Club Event
ATTACH;FMTTYPE=image/jpeg:https://hamiltoncityhawks.co.nz/wp-content/uploads/2019/05/NI-XC-Champs_16x9.jpg
END:VEVENT
BEGIN:VEVENT
DTSTART;TZID=Pacific/Auckland:20220709T123000
DTEND;TZID=Pacific/Auckland:20220709T153000
DTSTAMP:20260422T041111
CREATED:20220409T043033Z
LAST-MODIFIED:20220625T035449Z
UID:9322-1657369800-1657380600@hamiltoncityhawks.co.nz
SUMMARY:King & Queen of the Mountain
DESCRIPTION:The King and Queen of the Mountain Sat 9th July is now being held up Te Miro Hill on Grey Rd. \nSo please meet at 12.30 pm at Te Miro School to organize start times\, ready for the first runner to start at 1pm. Hopefully\, it will be a safer run up a quiet road. Still about a 5km run for adults. \nStart time is 1:00pm on Saturday for the first person.\nTarget finish time is exactly 1:00:00 hour and for runners\, the self-handicap is best calculated from a 6km flat road equivalent. \nRemember roads are open. All runners to stay on the RIGHT at all times. No crossing the centreline ever. At the finish – you will get an ear-tag with a number. Hold on to it and stay in your finishing order. Keep walking ahead. Give your number and name to someone who will record it. \nDistances: 4.8km for full race and 2km for 12 and under.
URL:https://hamiltoncityhawks.co.nz/events/king-queen-of-the-mountain-2022/
LOCATION:Te Miro School\, 443 Te Miro Road\, RD4\, Cambridge\, Waikato\, 3496\, New Zealand
CATEGORIES:Inter-Club Event
ATTACH;FMTTYPE=image/jpeg:https://hamiltoncityhawks.co.nz/wp-content/uploads/2020/06/Sanatorium-Hill_16x9.jpg
END:VEVENT
END:VCALENDAR