BEGIN:VCALENDAR
VERSION:2.0
PRODID:-//Hawks - ECPv6.15.20//NONSGML v1.0//EN
CALSCALE:GREGORIAN
METHOD:PUBLISH
X-WR-CALNAME:Hawks
X-ORIGINAL-URL:https://hamiltoncityhawks.co.nz
X-WR-CALDESC:Events for Hawks
REFRESH-INTERVAL;VALUE=DURATION:PT1H
X-Robots-Tag:noindex
X-PUBLISHED-TTL:PT1H
BEGIN:VTIMEZONE
TZID:Pacific/Auckland
BEGIN:STANDARD
TZOFFSETFROM:+1300
TZOFFSETTO:+1200
TZNAME:NZST
DTSTART:20220402T140000
END:STANDARD
BEGIN:DAYLIGHT
TZOFFSETFROM:+1200
TZOFFSETTO:+1300
TZNAME:NZDT
DTSTART:20220924T140000
END:DAYLIGHT
BEGIN:STANDARD
TZOFFSETFROM:+1300
TZOFFSETTO:+1200
TZNAME:NZST
DTSTART:20230401T140000
END:STANDARD
BEGIN:DAYLIGHT
TZOFFSETFROM:+1200
TZOFFSETTO:+1300
TZNAME:NZDT
DTSTART:20230923T140000
END:DAYLIGHT
BEGIN:STANDARD
TZOFFSETFROM:+1300
TZOFFSETTO:+1200
TZNAME:NZST
DTSTART:20240406T140000
END:STANDARD
BEGIN:DAYLIGHT
TZOFFSETFROM:+1200
TZOFFSETTO:+1300
TZNAME:NZDT
DTSTART:20240928T140000
END:DAYLIGHT
END:VTIMEZONE
BEGIN:VEVENT
DTSTART;TZID=Pacific/Auckland:20230520T123000
DTEND;TZID=Pacific/Auckland:20230520T153000
DTSTAMP:20260421T124225
CREATED:20230412T082942Z
LAST-MODIFIED:20230428T221543Z
UID:9769-1684585800-1684596600@hamiltoncityhawks.co.nz
SUMMARY:Gilchrist Rose Bowl
DESCRIPTION:Gilchrist Rosebowl fun cross country is held on the grassed area on the eastern side of the Hamilton Lake. 2 x 2km laps in total to get your hands on the Gilchrist Rosebowl trophy.\nSpeed work attendees will recognise the hill up to the water tower!\n\nDoors open and registrations at 12.30pm\, at the clubrooms before a warm up run to the lake.\n\nChildren’s 2km race at 1:15pm.\nRelay race starts at 1:30 pm\n\nBring a plate for afternoon tea back at the club rooms!
URL:https://hamiltoncityhawks.co.nz/events/gilchrist-rose-bowl-2023/
LOCATION:Hawks Road and XC Clubrooms\, Hamilton City Hawks Grantham Street\, Hamilton\, 3204
CATEGORIES:Club Event
ATTACH;FMTTYPE=image/jpeg:https://hamiltoncityhawks.co.nz/wp-content/uploads/Gilchrist-Rosebowl-2022.jpg
END:VEVENT
END:VCALENDAR