BEGIN:VCALENDAR
VERSION:2.0
PRODID:-//Hawks - ECPv6.15.20//NONSGML v1.0//EN
CALSCALE:GREGORIAN
METHOD:PUBLISH
X-WR-CALNAME:Hawks
X-ORIGINAL-URL:https://hamiltoncityhawks.co.nz
X-WR-CALDESC:Events for Hawks
REFRESH-INTERVAL;VALUE=DURATION:PT1H
X-Robots-Tag:noindex
X-PUBLISHED-TTL:PT1H
BEGIN:VTIMEZONE
TZID:Pacific/Auckland
BEGIN:STANDARD
TZOFFSETFROM:+1300
TZOFFSETTO:+1200
TZNAME:NZST
DTSTART:20220402T140000
END:STANDARD
BEGIN:DAYLIGHT
TZOFFSETFROM:+1200
TZOFFSETTO:+1300
TZNAME:NZDT
DTSTART:20220924T140000
END:DAYLIGHT
BEGIN:STANDARD
TZOFFSETFROM:+1300
TZOFFSETTO:+1200
TZNAME:NZST
DTSTART:20230401T140000
END:STANDARD
BEGIN:DAYLIGHT
TZOFFSETFROM:+1200
TZOFFSETTO:+1300
TZNAME:NZDT
DTSTART:20230923T140000
END:DAYLIGHT
BEGIN:STANDARD
TZOFFSETFROM:+1300
TZOFFSETTO:+1200
TZNAME:NZST
DTSTART:20240406T140000
END:STANDARD
BEGIN:DAYLIGHT
TZOFFSETFROM:+1200
TZOFFSETTO:+1300
TZNAME:NZDT
DTSTART:20240928T140000
END:DAYLIGHT
END:VTIMEZONE
BEGIN:VEVENT
DTSTART;TZID=Pacific/Auckland:20230917T093000
DTEND;TZID=Pacific/Auckland:20230917T130000
DTSTAMP:20260421T060547
CREATED:20230414T202027Z
LAST-MODIFIED:20230414T202027Z
UID:9846-1694943000-1694955600@hamiltoncityhawks.co.nz
SUMMARY:Red Stag Redwoods Relay
DESCRIPTION:This relay is a great annual event for running and walking teams with a course that winds its way through the iconic Redwood Forest. It is an event that is looked forward to by all and well represented by running clubs coming from as far as Hawera and Auckland. \nDetails from previous years and to be confirmed: \nRace pack pickup from 7.30am – 9.00 from iSite Redwoods \nPrimary grade  (year 8 and under) first race of the day start time 9.30am \nAdult grade start time at the commencement of the children’s race approximately 10.00am \nMore details to come see https://lakecity.co.nz/forestrelay \n5km Course \n \n3km Course \n \nKids 900m Course
URL:https://hamiltoncityhawks.co.nz/events/red-stag-redwoods-relay-2023/
LOCATION:The Redwoods Visitor Centre\, Long Mile Road\, Rotorua\, 3010\, New Zealand
CATEGORIES:Inter-Club Event
ATTACH;FMTTYPE=image/jpeg:https://hamiltoncityhawks.co.nz/wp-content/uploads/2015/09/Redwoods.jpg
END:VEVENT
END:VCALENDAR