BEGIN:VCALENDAR
VERSION:2.0
PRODID:-//Hawks - ECPv6.15.20//NONSGML v1.0//EN
CALSCALE:GREGORIAN
METHOD:PUBLISH
X-WR-CALNAME:Hawks
X-ORIGINAL-URL:https://hamiltoncityhawks.co.nz
X-WR-CALDESC:Events for Hawks
REFRESH-INTERVAL;VALUE=DURATION:PT1H
X-Robots-Tag:noindex
X-PUBLISHED-TTL:PT1H
BEGIN:VTIMEZONE
TZID:Pacific/Auckland
BEGIN:STANDARD
TZOFFSETFROM:+1300
TZOFFSETTO:+1200
TZNAME:NZST
DTSTART:20180331T140000
END:STANDARD
BEGIN:DAYLIGHT
TZOFFSETFROM:+1200
TZOFFSETTO:+1300
TZNAME:NZDT
DTSTART:20180929T140000
END:DAYLIGHT
BEGIN:STANDARD
TZOFFSETFROM:+1300
TZOFFSETTO:+1200
TZNAME:NZST
DTSTART:20190406T140000
END:STANDARD
BEGIN:DAYLIGHT
TZOFFSETFROM:+1200
TZOFFSETTO:+1300
TZNAME:NZDT
DTSTART:20190928T140000
END:DAYLIGHT
BEGIN:STANDARD
TZOFFSETFROM:+1300
TZOFFSETTO:+1200
TZNAME:NZST
DTSTART:20200404T140000
END:STANDARD
BEGIN:DAYLIGHT
TZOFFSETFROM:+1200
TZOFFSETTO:+1300
TZNAME:NZDT
DTSTART:20200926T140000
END:DAYLIGHT
END:VTIMEZONE
BEGIN:VEVENT
DTSTART;TZID=Pacific/Auckland:20190601T080000
DTEND;TZID=Pacific/Auckland:20190601T090000
DTSTAMP:20260426T134533
CREATED:20190429T075154Z
LAST-MODIFIED:20190429T080145Z
UID:7534-1559376000-1559379600@hamiltoncityhawks.co.nz
SUMMARY:Queen's Birthday Parkrun
DESCRIPTION:There’s no official Hawks event on this weekend\, so lets all get along to our local Park Run at Hamilton lake. \nOfficial website: www.parkrun.co.nz/hamiltonlake \nCosts nothing – it’s free! but please register before your first run. Only ever register with parkrun once. Don’t forget to bring a printed copy of your barcode (request a reminder). If you forget it\, you won’t get a time.
URL:https://hamiltoncityhawks.co.nz/events/queens-birthday-parkrun/
LOCATION:Hamilton Lake\, Innes Common\, Lake Cres\, Hamilton Lake\, Hamilton\, 3204\, New Zealand
CATEGORIES:Non Club Event
ATTACH;FMTTYPE=image/jpeg:https://hamiltoncityhawks.co.nz/wp-content/uploads/2018/04/WS-Hamilton-City-Aerial-over-Hamilton-Lake.jpg
END:VEVENT
BEGIN:VEVENT
DTSTART;TZID=Pacific/Auckland:20190602T080000
DTEND;TZID=Pacific/Auckland:20190602T170000
DTSTAMP:20260426T134533
CREATED:20190429T080129Z
LAST-MODIFIED:20190429T080129Z
UID:7538-1559462400-1559494800@hamiltoncityhawks.co.nz
SUMMARY:Christchurch Marathon & Half
DESCRIPTION:Inspired by the 1974 Commonwealth Games marathon\, the Christchurch Marathon event is renowned as one of the fastest courses in the world. But it is also one of the most scenic and supportive. With a Full Marathon\, Half Marathon\, 10k & Kids’ Mara’Fun\, there is something for everyone. \nOfficial Website: www.christchurchmarathon.co.nz
URL:https://hamiltoncityhawks.co.nz/events/christchurch-marathon-half-2019/
CATEGORIES:Non Club Event
ATTACH;FMTTYPE=image/png:https://hamiltoncityhawks.co.nz/wp-content/uploads/2019/04/ChCh_Marathon.png
END:VEVENT
BEGIN:VEVENT
DTSTART;TZID=Pacific/Auckland:20190608T123000
DTEND;TZID=Pacific/Auckland:20190608T153000
DTSTAMP:20260426T134533
CREATED:20190429T081350Z
LAST-MODIFIED:20190514T204846Z
UID:7543-1559997000-1560007800@hamiltoncityhawks.co.nz
SUMMARY:Gilchrist Rose Bowl
DESCRIPTION:This year it is going to be raced as the first real House race of the year so teams are not needed to be sorted like we have done in previous years ie Schools or like last year where you live in the city. \nYou gain a participation point for your house for coming along and running. \nThis year the race itself is going to be run over 4 kms  2 by 2 km laps very do able for all. You run as Individuals with your placing in the race taken note of\, where we will allocate points to you depending on your placing ie if you finish 1st and we have 40 runners taken part you will gain 40 race points\, 2nd 39  race points\, 10th 31 race points and so on till we have everyone finished. \nThese race points will be added together from all those in your house. The house who accumulates the most race points is the winning house gaining 75 BONUS INTER HOUSE COMPETITION POINTS to go on top of your participation points\, 2nd 50 Bonus points\, 3rd 25 Bonus points and 4th sorry no Bonus points. \nSo the more house members your house has there the chances of gaining some good House bonus points is high. Get rallying your house mates to show up. \nIf we have runners who are not in a house as have not registered yet they can still run and place as normal but don’t have any points allocated to them for their placing. \nThere is a kids race over a 1km lap they can chose to run 1 km or 2 kms \n\nDoors open 12.30 pm\nRun down to the lake where the start area is just past the rail track 1.30 pm\nKids race at 1.50 pm\nAdults race at 2.10 pm\n\nBring a plate for afterwards back at the club rooms.
URL:https://hamiltoncityhawks.co.nz/events/gilchrist-rose-bowl-school-of-origin-xc-2019/
LOCATION:Hawks Road and XC Clubrooms\, Hamilton City Hawks Grantham Street\, Hamilton\, 3204
CATEGORIES:Club Event
ATTACH;FMTTYPE=image/jpeg:https://hamiltoncityhawks.co.nz/wp-content/uploads/2016/06/School-of-Origin-XC-2016.jpg
END:VEVENT
BEGIN:VEVENT
DTSTART;TZID=Pacific/Auckland:20190622T130000
DTEND;TZID=Pacific/Auckland:20190622T153000
DTSTAMP:20260426T134533
CREATED:20190506T075432Z
LAST-MODIFIED:20190618T011506Z
UID:7553-1561208400-1561217400@hamiltoncityhawks.co.nz
SUMMARY:Club Cross Country Champs - Open Event
DESCRIPTION:This is a major event on the club calendar each year\, this year we also welcome all Waikato Bay of Plenty clubs as an Open club event. Held at Minogue Park\, meeting next to the miniature railway\, at the end of Tui Avenue. \nThe course covers a 3 km lap and/or a 2 km lap\, with a 1 km lap for the younger juniors. It is a challenging course with some hills and it can be wet and muddy. Suits Spikes or Trail shoes (or bare feet for the brave). \nJunior runners can only run up 1 grade\, and we limit anyone to running  1 race on the day. \nPlease wear your Club Singlet as this is an open event to all Waikato Bay of Plenty athletics Clubs.\nBring a plate and hot water flask along for afternoon tea at Minogue Park. \nHawks Past Results \nRace Times: \nWe will be having 2 races only. The U 10’s and U 12’s first off\, then everybody else.\nAs we have no power onsite\, please bring a thermos for your hot water\, along with a plate for afternoon tea. \nThe age grades will be sorted by age on the day\, so if you are a junior or masters runner\, when you register please make sure you put your age. \n1.00 on wards Register \n1.30 – U 10 Boys/girls  (1 km)\, U 12 Boys/girls (2 km) \n2.00– U 14 an U 16 Boys/ girls (3 km) \n-U 18 Boys (6 km)\n-U 18 Girls (5 km)\n-U 20 Men (6 km)\n-U 20 Women (5 km)\n-SM 20-39 (9 km)\n-SW 20-34 (6 km)\n-MM 40-49\, 50-59\, 60+ (6 km)\n-MW 35-49\, 50-59\, 60+ (5 km) \n \nEvent History\nWe have used the race course come Minogue Park since the club’s inception in 1928 with a few years exception in the late 70s & 80s.  There have been various course changes over the years. In the late 60s\, for example\, the Centennial Pools (now Waterworld) were built smack bang in the middle of our course. It was a good running course then (with a heap of high fences) as is our current course.  Yes it does get a bit wet during the raining season\, but\, hey\, that’s cross country.  Merely running the course\, we are steeped in history. The current course was designed by Gordon Speirs in the mid 90s\, with only minor changes since.
URL:https://hamiltoncityhawks.co.nz/events/club-cross-country-champs-2019/
LOCATION:Minogue Park\, Minogue Park\, Forest Lake\, Hamilton\, 3200
CATEGORIES:Club Event
ATTACH;FMTTYPE=image/jpeg:https://hamiltoncityhawks.co.nz/wp-content/uploads/2018/06/Club-Cross-Country-Champs-2018.jpg
END:VEVENT
BEGIN:VEVENT
DTSTART;TZID=Pacific/Auckland:20190629T130000
DTEND;TZID=Pacific/Auckland:20190629T150000
DTSTAMP:20260426T134533
CREATED:20190506T075636Z
LAST-MODIFIED:20190506T075636Z
UID:7556-1561813200-1561820400@hamiltoncityhawks.co.nz
SUMMARY:Sing Relay
DESCRIPTION:The Sing Relay is a unique two person fun relay on a 5km course and run in the “Helen Hall-King’s race format from the club rooms.  Both team members start together. However\, the faster runner runs ahead to the half way point and then turns around to meet their other runner. At the point of meeting\, both runners turn around and run back to finish line the exact way they have just run. The team that takes top honours is the team that has both runners home first. \nThis is a relay for all abilities and is loads of fun. You will either run less or more than 5km depending on your ability and that of your team member. \nDoors to the club rooms open from 12.30pm with teams picked at 1.30 and the race starting at 1.50pm. \nSuitable for all ages. 2015 winners were Ben Wild (an under 10) and Dion Hardy (an over 40) \nCome and have fun\, and bring a small something as a contribution towards afternoon tea.\nLook forward to seeing you there!
URL:https://hamiltoncityhawks.co.nz/events/sing-relay-2019/
LOCATION:Hawks Road and XC Clubrooms\, Hamilton City Hawks Grantham Street\, Hamilton\, 3204
CATEGORIES:Club Event
ATTACH;FMTTYPE=image/jpeg:https://hamiltoncityhawks.co.nz/wp-content/uploads/2013/05/20130427-Sing-lineup.jpg
END:VEVENT
END:VCALENDAR