BEGIN:VCALENDAR
VERSION:2.0
PRODID:-//Hawks - ECPv6.15.20//NONSGML v1.0//EN
CALSCALE:GREGORIAN
METHOD:PUBLISH
X-ORIGINAL-URL:https://hamiltoncityhawks.co.nz
X-WR-CALDESC:Events for Hawks
REFRESH-INTERVAL;VALUE=DURATION:PT1H
X-Robots-Tag:noindex
X-PUBLISHED-TTL:PT1H
BEGIN:VTIMEZONE
TZID:Pacific/Auckland
BEGIN:STANDARD
TZOFFSETFROM:+1300
TZOFFSETTO:+1200
TZNAME:NZST
DTSTART:20180331T140000
END:STANDARD
BEGIN:DAYLIGHT
TZOFFSETFROM:+1200
TZOFFSETTO:+1300
TZNAME:NZDT
DTSTART:20180929T140000
END:DAYLIGHT
BEGIN:STANDARD
TZOFFSETFROM:+1300
TZOFFSETTO:+1200
TZNAME:NZST
DTSTART:20190406T140000
END:STANDARD
BEGIN:DAYLIGHT
TZOFFSETFROM:+1200
TZOFFSETTO:+1300
TZNAME:NZDT
DTSTART:20190928T140000
END:DAYLIGHT
BEGIN:STANDARD
TZOFFSETFROM:+1300
TZOFFSETTO:+1200
TZNAME:NZST
DTSTART:20200404T140000
END:STANDARD
BEGIN:DAYLIGHT
TZOFFSETFROM:+1200
TZOFFSETTO:+1300
TZNAME:NZDT
DTSTART:20200926T140000
END:DAYLIGHT
END:VTIMEZONE
BEGIN:VEVENT
DTSTART;TZID=Pacific/Auckland:20190915T080000
DTEND;TZID=Pacific/Auckland:20190915T170000
DTSTAMP:20260426T093738
CREATED:20190325T201159Z
LAST-MODIFIED:20190525T212638Z
UID:7692-1568534400-1568566800@hamiltoncityhawks.co.nz
SUMMARY:NZ Road Champs
DESCRIPTION:Refer latest details on the Athletics NZ website:\nhttp://www.athletics.org.nz/Events/nz-road-race-championships \nPrevious years distances raced were: \n5km and 10km Road Walks\n5km Under 18 Women\, Under 20 Women\, Masters Women\n10km Masters Men\n6km Under 18 Men\n8km Under 20 Men\n3km Boys and Girls Under 15\n2km Boys and Girls Under 13\n10km Senior Men and Senior Women
URL:https://hamiltoncityhawks.co.nz/events/nz-road-champs-2019/
LOCATION:Bruce Pulman Park\, Auckland\, New Zealand
CATEGORIES:Athletics NZ Event
ATTACH;FMTTYPE=image/jpeg:https://hamiltoncityhawks.co.nz/wp-content/uploads/2019/05/Pulman-Park_lake_750.jpg
END:VEVENT
BEGIN:VEVENT
DTSTART;TZID=Pacific/Auckland:20190915T090000
DTEND;TZID=Pacific/Auckland:20190915T130000
DTSTAMP:20260426T093738
CREATED:20190325T051819Z
LAST-MODIFIED:20190525T062608Z
UID:7668-1568538000-1568552400@hamiltoncityhawks.co.nz
SUMMARY:Cambridge Half Marathon
DESCRIPTION:The Cambridge Half Marathon\, 10km and 5km is an annual running/walking event at Cambridge High School. \nThe Half Marathon course follows a low-traffic\, mainly flat\, extremely scenic course north and east of Cambridge\, along Flume\, Aspin and Maungakawa roads. The 10km course cuts through Tulip Drive and Watkins Road to join the half marathon course at around the 5km mark. The 5km event takes in the scenic walkway between Watkins Road and Thornton Road. \nOfficial event website and online entry: \nhttp://www.sporty.co.nz/cahcnz/Half-Marathon10k-5k/Race-Rules-Info \nRace day:\nSunday 15 September 2019 \nStart Times:\nHalf Marathon Walk – 9.00am\nHalf Marathon Run – 9.30am\n2k Kids Run – 9:40am \n10k Run – 10.20am\n10k Walk – 10:21am\n5K Run – 10.30am\n5K Walk – 10:31am \nHow to enter:\nTo enter online\, go to Click here\nEntry form Click Here\nTo download a flyer\, Click here \nTo check you are entered click here
URL:https://hamiltoncityhawks.co.nz/events/cambridge-half-marathon-2019/
LOCATION:Cambridge High School\, Swayne Road\, Cambridge\, 3434\, New Zealand
CATEGORIES:Non Club Event
ATTACH;FMTTYPE=image/jpeg:https://hamiltoncityhawks.co.nz/wp-content/uploads/2016/09/Cambridge-Half-2016.jpg
END:VEVENT
BEGIN:VEVENT
DTSTART;TZID=Pacific/Auckland:20190921T130000
DTEND;TZID=Pacific/Auckland:20190921T153000
DTSTAMP:20260426T093738
CREATED:20190325T202816Z
LAST-MODIFIED:20190917T032701Z
UID:7697-1569070800-1569079800@hamiltoncityhawks.co.nz
SUMMARY:Club Road Champs
DESCRIPTION:Our Club Road Champs this year are to be held on the private road at 400 Raynes Road. \n\nFollow the red arrows from Raynes Road. \nRegistration will begin from 12:30pm on the day. \nRace start times and Trophy grades. \n1:30pm    U10 and  U12 \n1:45pm    3km —   U14 B/G    and  5km –   MW35+\, U16 M/W\, U18 W\, U20 W \n2.15pm\n6km  —   U18 M\, U20 M\n8km  —    MM 65+\n10km —   SM (open)\, SW (open)\, MM40-64 \nPrize giving and afternoon tea will follow at 3:30pm in Hopnotic Brewery family lounge\, followed by the option of purchasing Hopnotic Brewery product from the bar room after 4pm.  (Product sampled and approved by Kevin and Glenn on a previous occasion). \nPlease bring a plate for a shared afternoon tea and that tea and coffee will be provided. \n  \n \n\nHawks Past Results
URL:https://hamiltoncityhawks.co.nz/events/club-road-champs-2019/
LOCATION:Raynes Road\, 400 Raynes Road\, Tamahere\, Hamilton\, 3282\, New Zealand
CATEGORIES:Club Event
ATTACH;FMTTYPE=image/jpeg:https://hamiltoncityhawks.co.nz/wp-content/uploads/2016/08/WaiBOP-Road-Champs-2016_2.jpg
END:VEVENT
END:VCALENDAR