BEGIN:VCALENDAR
VERSION:2.0
PRODID:-//Hawks - ECPv6.15.20//NONSGML v1.0//EN
CALSCALE:GREGORIAN
METHOD:PUBLISH
X-ORIGINAL-URL:https://hamiltoncityhawks.co.nz
X-WR-CALDESC:Events for Hawks
REFRESH-INTERVAL;VALUE=DURATION:PT1H
X-Robots-Tag:noindex
X-PUBLISHED-TTL:PT1H
BEGIN:VTIMEZONE
TZID:Pacific/Auckland
BEGIN:STANDARD
TZOFFSETFROM:+1300
TZOFFSETTO:+1200
TZNAME:NZST
DTSTART:20180331T140000
END:STANDARD
BEGIN:DAYLIGHT
TZOFFSETFROM:+1200
TZOFFSETTO:+1300
TZNAME:NZDT
DTSTART:20180929T140000
END:DAYLIGHT
BEGIN:STANDARD
TZOFFSETFROM:+1300
TZOFFSETTO:+1200
TZNAME:NZST
DTSTART:20190406T140000
END:STANDARD
BEGIN:DAYLIGHT
TZOFFSETFROM:+1200
TZOFFSETTO:+1300
TZNAME:NZDT
DTSTART:20190928T140000
END:DAYLIGHT
BEGIN:STANDARD
TZOFFSETFROM:+1300
TZOFFSETTO:+1200
TZNAME:NZST
DTSTART:20200404T140000
END:STANDARD
BEGIN:DAYLIGHT
TZOFFSETFROM:+1200
TZOFFSETTO:+1300
TZNAME:NZDT
DTSTART:20200926T140000
END:DAYLIGHT
END:VTIMEZONE
BEGIN:VEVENT
DTSTART;TZID=Pacific/Auckland:20191117T080000
DTEND;TZID=Pacific/Auckland:20191117T170000
DTSTAMP:20260426T070523
CREATED:20190325T212646Z
LAST-MODIFIED:20190525T223106Z
UID:7718-1573977600-1574010000@hamiltoncityhawks.co.nz
SUMMARY:Round the Bridges
DESCRIPTION:Taking in some of Hamilton’s best known landmarks\, the 12km and 6km courses include the scenic Waikato River paths and the iconic Hamilton bridges. Kids event 2km. \nRound the Bridges is one of the oldest annually contested events in New Zealand. The event began in 1945 (at the end of WWII) when the Hamilton Harrier Club established a road running race to enable Hamilton residents to witness top New Zealand athletes in action. \nCheck out official website at: www.roundthebridges.co.nz\nHawks runners join the Hamilton City Hawks group when you register for the event.
URL:https://hamiltoncityhawks.co.nz/events/round-the-bridges-2019/
LOCATION:Garden Place\, Victoria Street\, Hamilton\, 3204\, New Zealand
CATEGORIES:Club Event
ATTACH;FMTTYPE=image/png:https://hamiltoncityhawks.co.nz/wp-content/uploads/2016/05/roundthebridges.png
END:VEVENT
END:VCALENDAR