BEGIN:VCALENDAR
VERSION:2.0
PRODID:-//Hawks - ECPv6.15.20//NONSGML v1.0//EN
CALSCALE:GREGORIAN
METHOD:PUBLISH
X-ORIGINAL-URL:https://hamiltoncityhawks.co.nz
X-WR-CALDESC:Events for Hawks
REFRESH-INTERVAL;VALUE=DURATION:PT1H
X-Robots-Tag:noindex
X-PUBLISHED-TTL:PT1H
BEGIN:VTIMEZONE
TZID:Pacific/Auckland
BEGIN:STANDARD
TZOFFSETFROM:+1300
TZOFFSETTO:+1200
TZNAME:NZST
DTSTART:20190406T140000
END:STANDARD
BEGIN:DAYLIGHT
TZOFFSETFROM:+1200
TZOFFSETTO:+1300
TZNAME:NZDT
DTSTART:20190928T140000
END:DAYLIGHT
BEGIN:STANDARD
TZOFFSETFROM:+1300
TZOFFSETTO:+1200
TZNAME:NZST
DTSTART:20200404T140000
END:STANDARD
BEGIN:DAYLIGHT
TZOFFSETFROM:+1200
TZOFFSETTO:+1300
TZNAME:NZDT
DTSTART:20200926T140000
END:DAYLIGHT
BEGIN:STANDARD
TZOFFSETFROM:+1300
TZOFFSETTO:+1200
TZNAME:NZST
DTSTART:20210403T140000
END:STANDARD
BEGIN:DAYLIGHT
TZOFFSETFROM:+1200
TZOFFSETTO:+1300
TZNAME:NZDT
DTSTART:20210925T140000
END:DAYLIGHT
END:VTIMEZONE
BEGIN:VEVENT
DTSTART;TZID=Pacific/Auckland:20200522T123000
DTEND;TZID=Pacific/Auckland:20200522T153000
DTSTAMP:20260425T234648
CREATED:20210409T043044Z
LAST-MODIFIED:20210409T062800Z
UID:8781-1590150600-1590161400@hamiltoncityhawks.co.nz
SUMMARY:Reduction Relay
DESCRIPTION:It’s a cross country relay upon the grass alongside Cobham Drive\, before the Cobham Bridge.\nA 2km loop where runners are divided into mixed teams of 3 and all run together. One runner drops off each lap. \nThere’s also a kids race\, so bring the family. \nDoors open at 12:30pm. Registrations from then.  Pick teams at 1 pm\, then jog to grass area near Traffic lights north of Cobham Bridge.\nKids race is at 1:15pm. Other races start at 1:30pm. \nPlease bring a plate for afternoon tea \nHawks past results
URL:https://hamiltoncityhawks.co.nz/events/reduction-relay-2021/
LOCATION:Hawks Road and XC Clubrooms\, Hamilton City Hawks Grantham Street\, Hamilton\, 3204
CATEGORIES:Club Event
ATTACH;FMTTYPE=image/jpeg:https://hamiltoncityhawks.co.nz/wp-content/uploads/2020/05/Reduction-Relay_16x9.jpg
END:VEVENT
END:VCALENDAR