BEGIN:VCALENDAR
VERSION:2.0
PRODID:-//Hawks - ECPv6.15.20//NONSGML v1.0//EN
CALSCALE:GREGORIAN
METHOD:PUBLISH
X-WR-CALNAME:Hawks
X-ORIGINAL-URL:https://hamiltoncityhawks.co.nz
X-WR-CALDESC:Events for Hawks
REFRESH-INTERVAL;VALUE=DURATION:PT1H
X-Robots-Tag:noindex
X-PUBLISHED-TTL:PT1H
BEGIN:VTIMEZONE
TZID:Pacific/Auckland
BEGIN:STANDARD
TZOFFSETFROM:+1300
TZOFFSETTO:+1200
TZNAME:NZST
DTSTART:20190406T140000
END:STANDARD
BEGIN:DAYLIGHT
TZOFFSETFROM:+1200
TZOFFSETTO:+1300
TZNAME:NZDT
DTSTART:20190928T140000
END:DAYLIGHT
BEGIN:STANDARD
TZOFFSETFROM:+1300
TZOFFSETTO:+1200
TZNAME:NZST
DTSTART:20200404T140000
END:STANDARD
BEGIN:DAYLIGHT
TZOFFSETFROM:+1200
TZOFFSETTO:+1300
TZNAME:NZDT
DTSTART:20200926T140000
END:DAYLIGHT
BEGIN:STANDARD
TZOFFSETFROM:+1300
TZOFFSETTO:+1200
TZNAME:NZST
DTSTART:20210403T140000
END:STANDARD
BEGIN:DAYLIGHT
TZOFFSETFROM:+1200
TZOFFSETTO:+1300
TZNAME:NZDT
DTSTART:20210925T140000
END:DAYLIGHT
END:VTIMEZONE
BEGIN:VEVENT
DTSTART;TZID=Pacific/Auckland:20200613T124500
DTEND;TZID=Pacific/Auckland:20200613T153000
DTSTAMP:20260425T221942
CREATED:20200330T021350Z
LAST-MODIFIED:20200611T205848Z
UID:8079-1592052300-1592062200@hamiltoncityhawks.co.nz
SUMMARY:Gilchrist Rose Bowl
DESCRIPTION:This is a fun X-Country event held on the grass area on the eastern side of Hamilton Lake \nWhen: Saturday 13th June 2020\, 1:00pm\nWhere: Meet at clubrooms by 12:45 – or at the Lake 1pm – ready for a 1:30pm start. \nPlease bring a plate for a shared afternoon tea back at the clubrooms at the conclusion of the racing. \nAlso\, singlets will be available to purchase at the clubrooms (see Rob Townsend). \n*** Remember House points are on offer for this event! *** \n\nKids will be running 2 x 1k laps\nAdults will run 2 x 2k laps anti-clockwise as per the map below
URL:https://hamiltoncityhawks.co.nz/events/gilchrist-rose-bowl-school-of-origin-xc-2020/
LOCATION:Hawks Road and XC Clubrooms\, Hamilton City Hawks Grantham Street\, Hamilton\, 3204
CATEGORIES:Club Event
ATTACH;FMTTYPE=image/jpeg:https://hamiltoncityhawks.co.nz/wp-content/uploads/2016/06/School-of-Origin-XC-2016.jpg
END:VEVENT
BEGIN:VEVENT
DTSTART;TZID=Pacific/Auckland:20200620T123000
DTEND;TZID=Pacific/Auckland:20200620T153000
DTSTAMP:20260425T221942
CREATED:20200530T034144Z
LAST-MODIFIED:20200616T092601Z
UID:8043-1592656200-1592667000@hamiltoncityhawks.co.nz
SUMMARY:Reduction Relay - Bannister Plaque
DESCRIPTION:It’s a cross country relay upon the grass alongside Cobham Drive\, before the Cobham Bridge.\nA 2km loop where runners are divided into mixed teams of 3 and all run together. One runner drops off each lap. \nThere’s also a kids race\, so bring the family. \nDoors open at 12:30pm. Registrations from then.  Pick teams at 1 pm\, then jog to grass area near Traffic lights north of Cobham Bridge. \nKids race is at 1:15pm. Other races start at 1:30pm. \nPlease bring a plate for afternoon tea \nHawks past results
URL:https://hamiltoncityhawks.co.nz/events/reduction-relay-2020/
LOCATION:Hawks Road and XC Clubrooms\, Hamilton City Hawks Grantham Street\, Hamilton\, 3204
CATEGORIES:Club Event
ATTACH;FMTTYPE=image/jpeg:https://hamiltoncityhawks.co.nz/wp-content/uploads/2015/05/Reduction-Relay-2015.jpg
END:VEVENT
BEGIN:VEVENT
DTSTART;TZID=Pacific/Auckland:20200628T131500
DTEND;TZID=Pacific/Auckland:20200628T144500
DTSTAMP:20260425T221942
CREATED:20200613T040031Z
LAST-MODIFIED:20200615T072331Z
UID:8118-1593350100-1593355500@hamiltoncityhawks.co.nz
SUMMARY:Cambridge Club Cross Country
DESCRIPTION:Hawks have been invited to attend Cambridge Harriers Club Cross Country event which is their Club Cross Country Champs event. \nSunday\, June 28\, 2020 at 1:15 PM – 2:45 PM \nKeeley’s\, 333 Tirau Rd\, SH1\, Karapiro
URL:https://hamiltoncityhawks.co.nz/events/cambridge-club-cross-country-2020/
LOCATION:Keeley’s Farm\, 333 Tirau Rd\, Cambridge\, Karapiro\, 3496\, New Zealand
CATEGORIES:Inter-Club Event
ATTACH;FMTTYPE=image/jpeg:https://hamiltoncityhawks.co.nz/wp-content/uploads/2018/04/30762788_1671260642921513_6993951541107359744_o-1.jpg
END:VEVENT
END:VCALENDAR