BEGIN:VCALENDAR
VERSION:2.0
PRODID:-//Hawks - ECPv6.15.20//NONSGML v1.0//EN
CALSCALE:GREGORIAN
METHOD:PUBLISH
X-WR-CALNAME:Hawks
X-ORIGINAL-URL:https://hamiltoncityhawks.co.nz
X-WR-CALDESC:Events for Hawks
REFRESH-INTERVAL;VALUE=DURATION:PT1H
X-Robots-Tag:noindex
X-PUBLISHED-TTL:PT1H
BEGIN:VTIMEZONE
TZID:Pacific/Auckland
BEGIN:STANDARD
TZOFFSETFROM:+1300
TZOFFSETTO:+1200
TZNAME:NZST
DTSTART:20200404T140000
END:STANDARD
BEGIN:DAYLIGHT
TZOFFSETFROM:+1200
TZOFFSETTO:+1300
TZNAME:NZDT
DTSTART:20200926T140000
END:DAYLIGHT
BEGIN:STANDARD
TZOFFSETFROM:+1300
TZOFFSETTO:+1200
TZNAME:NZST
DTSTART:20210403T140000
END:STANDARD
BEGIN:DAYLIGHT
TZOFFSETFROM:+1200
TZOFFSETTO:+1300
TZNAME:NZDT
DTSTART:20210925T140000
END:DAYLIGHT
BEGIN:STANDARD
TZOFFSETFROM:+1300
TZOFFSETTO:+1200
TZNAME:NZST
DTSTART:20220402T140000
END:STANDARD
BEGIN:DAYLIGHT
TZOFFSETFROM:+1200
TZOFFSETTO:+1300
TZNAME:NZDT
DTSTART:20220924T140000
END:DAYLIGHT
END:VTIMEZONE
BEGIN:VEVENT
DTSTART;TZID=Pacific/Auckland:20210410T123000
DTEND;TZID=Pacific/Auckland:20210410T150000
DTSTAMP:20260425T094021
CREATED:20210404T041327Z
LAST-MODIFIED:20210408T075305Z
UID:8674-1618057800-1618066800@hamiltoncityhawks.co.nz
SUMMARY:Hawks Open Day 2021
DESCRIPTION:Road and Cross country season open day. Come along and enjoy a pack run (5km to 10km) course and find out about the season.\nPleases bring something for afternoon tea for after the run.\n\n\nOnce again we will be refunding 4x memberships for those who join in April – the earlier you join\, the more chances you get!\n\n\n\n\nThe registration site is online at https://memberdesq.onesporttechnology.com/3275
URL:https://hamiltoncityhawks.co.nz/events/hawks-open-day-2021/
LOCATION:Hawks Road and XC Clubrooms\, Hamilton City Hawks Grantham Street\, Hamilton\, 3204
CATEGORIES:Club Event
ATTACH;FMTTYPE=image/jpeg:https://hamiltoncityhawks.co.nz/wp-content/uploads/2021/04/OpenDay2014_16x9.jpg
END:VEVENT
BEGIN:VEVENT
DTSTART;TZID=Pacific/Auckland:20210417T090000
DTEND;TZID=Pacific/Auckland:20210417T113000
DTSTAMP:20260425T094021
CREATED:20210405T040054Z
LAST-MODIFIED:20210407T071930Z
UID:8677-1618650000-1618659000@hamiltoncityhawks.co.nz
SUMMARY:Te Awamutu Golf Course Run
DESCRIPTION:This is the 9th running of the Paperplus Te Awamutu Athletics Club Golf Course Fun Run held at the Te Awamutu Golf Club on Kihikihi Road. \nSaturday 17 April. The race starts at 9.30am. This event is open to the Public and Registered Athletes \nClick here to sign up and needs to be done by Thursday 15 April. \nPrizegiving – COVID allowing\, we hope to hold a prizegiving this year. Whilst things may change by then we will plan on the current rules. \nAn event for all abilites with the unique ability to race on a Golf Course with a rolling aspect and good underfoot conditions\, suitable for spikes. Although adjacent to a main road the event offers a safe environment for families\, with kids able to finish their 3k run whilst their parents continue in their own event. \nThere is a 3k run for Students $7\, a 3k and 6k walk and 6k and 9k run\, all $15. Online entries close at 10pm Thursday 15th April. We much prefer ‘online’ entries however we will take late entries on the day but ask that you bring the correct cash. A ‘late’ fee of $5 will apply. \nAll athletes start at the same time and will complete one\, two or three 3k circuits. Athletes will be issued with a race number and will recieve a finishing time and certificate. \nThe Golf Course will reopen to Members at 11am. Please ensure you or your supporters do not run or walk on any of the Greens. It is a privilege to have access to the Course – we don’t want to lose that. \nAll proceeds go into a Travel Fund to assist our Club’s athletes on representative duties. Thanks for your support. \nA Special Event – for those that are interested there will be a ‘Speed Golf’ event starting at about 12pm. This will have a $5 entry and your welcome to give this a go. I think there will be 9 and 18 hole options. You take just a few clubs and do your best. I’m not a great golfer\, handicap 24\, or runner\, but I have played to my handicap and taken under an hour for 18 holes. Don’t be shy\, it’s a fun event\, have a go. \nRace Organiser – Murray Green – 0276216608
URL:https://hamiltoncityhawks.co.nz/events/te-awamutu-golf-course-run-2021/
LOCATION:Te Awamutu Golf Club\, Kihikihi Rd\, Te Awamutu\, 3800\, New Zealand
CATEGORIES:Inter-Club Event
ATTACH;FMTTYPE=image/jpeg:https://hamiltoncityhawks.co.nz/wp-content/uploads/2021/04/Te-Awamutu-Golf-XC_16x9.jpg
END:VEVENT
END:VCALENDAR