BEGIN:VCALENDAR
VERSION:2.0
PRODID:-//Hawks - ECPv6.15.20//NONSGML v1.0//EN
CALSCALE:GREGORIAN
METHOD:PUBLISH
X-ORIGINAL-URL:https://hamiltoncityhawks.co.nz
X-WR-CALDESC:Events for Hawks
REFRESH-INTERVAL;VALUE=DURATION:PT1H
X-Robots-Tag:noindex
X-PUBLISHED-TTL:PT1H
BEGIN:VTIMEZONE
TZID:Pacific/Auckland
BEGIN:STANDARD
TZOFFSETFROM:+1300
TZOFFSETTO:+1200
TZNAME:NZST
DTSTART:20210403T140000
END:STANDARD
BEGIN:DAYLIGHT
TZOFFSETFROM:+1200
TZOFFSETTO:+1300
TZNAME:NZDT
DTSTART:20210925T140000
END:DAYLIGHT
BEGIN:STANDARD
TZOFFSETFROM:+1300
TZOFFSETTO:+1200
TZNAME:NZST
DTSTART:20220402T140000
END:STANDARD
BEGIN:DAYLIGHT
TZOFFSETFROM:+1200
TZOFFSETTO:+1300
TZNAME:NZDT
DTSTART:20220924T140000
END:DAYLIGHT
BEGIN:STANDARD
TZOFFSETFROM:+1300
TZOFFSETTO:+1200
TZNAME:NZST
DTSTART:20230401T140000
END:STANDARD
BEGIN:DAYLIGHT
TZOFFSETFROM:+1200
TZOFFSETTO:+1300
TZNAME:NZDT
DTSTART:20230923T140000
END:DAYLIGHT
END:VTIMEZONE
BEGIN:VEVENT
DTSTART;TZID=Pacific/Auckland:20220903T123000
DTEND;TZID=Pacific/Auckland:20220903T153000
DTSTAMP:20260424T104726
CREATED:20220427T043030Z
LAST-MODIFIED:20220726T035429Z
UID:9400-1662208200-1662219000@hamiltoncityhawks.co.nz
SUMMARY:Club Road Champs
DESCRIPTION:The venue for this 2022 will be the footpath alongside Mangaharakeke Drive – starting at the end of Roger Kaui Place.\n\nThere is plenty of parking\, and a good grass area for the start/finish and gazebo etc.\nAnd the surface is good\, and we can get 2.5km out and back – so the 10k would be out and back twice.\n\nDistances are as below:\nBoys & Girls U10 – 2km\nBoys & Girls U12 – 2km\nBoys & Girls U14 – 3km\nBoys & Girls U16 – 5km\nWomen U18 – 5km\nWomen U20 -5km\nMasters women 35+ – 5km\nMen U18 – 6km\nMen U20 – 6km\nMaster men 65+ – 8km\nSenior men – 10km\nSenior women – 10km\nMaster men 40-64 – 10km\n12:30 Registrations open\n13:30 First race starts (2km)\n13:45 3km and 5km start\n14:15 All other racers start\n\n\n\nHawks Past Results
URL:https://hamiltoncityhawks.co.nz/events/club-road-champs-2022/
LOCATION:Roger Kaui Place\, Roger Kaui Place\, Burbush\, Hamilton\, Waikato\, 3288\, New Zealand
CATEGORIES:Club Event
ATTACH;FMTTYPE=image/jpeg:https://hamiltoncityhawks.co.nz/wp-content/uploads/2021/04/Club-Road-Champs-16x9-1.jpg
END:VEVENT
BEGIN:VEVENT
DTSTART;TZID=Pacific/Auckland:20220924T103000
DTEND;TZID=Pacific/Auckland:20220924T133000
DTSTAMP:20260424T104726
CREATED:20220509T043051Z
LAST-MODIFIED:20220513T061745Z
UID:9456-1664015400-1664026200@hamiltoncityhawks.co.nz
SUMMARY:Dudfield Duathlon & 2.5k Time Trial
DESCRIPTION:The Final Dudfield Duathlon. \nMeet at  Dudfield’s – 33 Cromwell Drive by 10:30am to collect timing chip and briefing. \nFormat is Run-Bike-Run. \n2.5k – 16K – 2.5k
URL:https://hamiltoncityhawks.co.nz/events/the-dudfield-duathlon-and-2-5k-time-trial-2022/
CATEGORIES:Club Event
ATTACH;FMTTYPE=image/jpeg:https://hamiltoncityhawks.co.nz/wp-content/uploads/2020/06/RTB-16x9-1.jpg
END:VEVENT
END:VCALENDAR