BEGIN:VCALENDAR
VERSION:2.0
PRODID:-//Hawks - ECPv6.15.20//NONSGML v1.0//EN
CALSCALE:GREGORIAN
METHOD:PUBLISH
X-ORIGINAL-URL:https://hamiltoncityhawks.co.nz
X-WR-CALDESC:Events for Hawks
REFRESH-INTERVAL;VALUE=DURATION:PT1H
X-Robots-Tag:noindex
X-PUBLISHED-TTL:PT1H
BEGIN:VTIMEZONE
TZID:Pacific/Auckland
BEGIN:STANDARD
TZOFFSETFROM:+1300
TZOFFSETTO:+1200
TZNAME:NZST
DTSTART:20240406T140000
END:STANDARD
BEGIN:DAYLIGHT
TZOFFSETFROM:+1200
TZOFFSETTO:+1300
TZNAME:NZDT
DTSTART:20240928T140000
END:DAYLIGHT
BEGIN:STANDARD
TZOFFSETFROM:+1300
TZOFFSETTO:+1200
TZNAME:NZST
DTSTART:20250405T140000
END:STANDARD
BEGIN:DAYLIGHT
TZOFFSETFROM:+1200
TZOFFSETTO:+1300
TZNAME:NZDT
DTSTART:20250927T140000
END:DAYLIGHT
BEGIN:STANDARD
TZOFFSETFROM:+1300
TZOFFSETTO:+1200
TZNAME:NZST
DTSTART:20260404T140000
END:STANDARD
BEGIN:DAYLIGHT
TZOFFSETFROM:+1200
TZOFFSETTO:+1300
TZNAME:NZDT
DTSTART:20260926T140000
END:DAYLIGHT
END:VTIMEZONE
BEGIN:VEVENT
DTSTART;TZID=Pacific/Auckland:20250524T113000
DTEND;TZID=Pacific/Auckland:20250524T150000
DTSTAMP:20260420T054209
CREATED:20250404T194431Z
LAST-MODIFIED:20250404T194431Z
UID:10567-1748086200-1748098800@hamiltoncityhawks.co.nz
SUMMARY:Tauranga Open Cross Country
DESCRIPTION:Hosted by Athletics Tauranga it is the largest event they host each season\, races for all age groups. Clubs from all around BOP & Waikato attend but it is open to everyone\, you do not need to be a club member.  Prize giving and afternoon tea after the final race. \nView here on the Waikato Bay of Plenty website nearer to the event for the online entry form and further detailed information. \nHawks Past Results
URL:https://hamiltoncityhawks.co.nz/events/tauranga-open-cross-country-25/
LOCATION:Waipuna Park\, Kaitemako Road\, Welcome Bay\, Tauranga\, 3175
CATEGORIES:Inter-Club Event,WaiBOP Event
ATTACH;FMTTYPE=image/jpeg:https://hamiltoncityhawks.co.nz/wp-content/uploads/TGA_2022_XC_2_16x9.jpg
END:VEVENT
END:VCALENDAR